BEGIN:VCALENDAR
VERSION:2.0
PRODID:-//Maison Internationale de Rennes - ECPv6.15.20//NONSGML v1.0//EN
CALSCALE:GREGORIAN
METHOD:PUBLISH
X-ORIGINAL-URL:https://www.mir-rennes.fr
X-WR-CALDESC:Évènements pour Maison Internationale de Rennes
REFRESH-INTERVAL;VALUE=DURATION:PT1H
X-Robots-Tag:noindex
X-PUBLISHED-TTL:PT1H
BEGIN:VTIMEZONE
TZID:Europe/Paris
BEGIN:DAYLIGHT
TZOFFSETFROM:+0100
TZOFFSETTO:+0200
TZNAME:CEST
DTSTART:20240331T010000
END:DAYLIGHT
BEGIN:STANDARD
TZOFFSETFROM:+0200
TZOFFSETTO:+0100
TZNAME:CET
DTSTART:20241027T010000
END:STANDARD
BEGIN:DAYLIGHT
TZOFFSETFROM:+0100
TZOFFSETTO:+0200
TZNAME:CEST
DTSTART:20250330T010000
END:DAYLIGHT
BEGIN:STANDARD
TZOFFSETFROM:+0200
TZOFFSETTO:+0100
TZNAME:CET
DTSTART:20251026T010000
END:STANDARD
BEGIN:DAYLIGHT
TZOFFSETFROM:+0100
TZOFFSETTO:+0200
TZNAME:CEST
DTSTART:20260329T010000
END:DAYLIGHT
BEGIN:STANDARD
TZOFFSETFROM:+0200
TZOFFSETTO:+0100
TZNAME:CET
DTSTART:20261025T010000
END:STANDARD
END:VTIMEZONE
BEGIN:VEVENT
DTSTART;TZID=Europe/Paris:20251115T080000
DTEND;TZID=Europe/Paris:20251129T170000
DTSTAMP:20260422T232115
CREATED:20251010T080515Z
LAST-MODIFIED:20251010T080515Z
UID:3158-1763193600-1764435600@www.mir-rennes.fr
SUMMARY:#FESTISOL - Exposition Days of Plenty : an Archive of Abundance\, par la MIR\, l'IFA et GLAZ Festival
DESCRIPTION:Days of Plenty : an archive of abundance du photographe David Ellingsen nous plonge dans la beauté spectaculaire de la nature\, mais aussi dans sa fragilité. À travers une série d’images saisissantes\, l’artiste montre ce que nous risquons de perdre face aux excès de notre époque. \nUne exposition à la fois émouvante et percutante\, qui invite chacun à ouvrir les yeux et à réfléchir à notre avenir commun. \nHoraires : Mardi au vendredi : 14h-18h / Samedi : 10h-12h30 / 14h-16h30 \nVernissage le mercredi 19 novembre à 18h30
URL:https://www.mir-rennes.fr/evenement/festisol-exposition-days-of-plenty-an-archive-of-abundance-par-la-mir-lifa-et-glaz-festival/
LOCATION:Galerie de la Maison Internationale de Rennes\, 7 Quai Chateaubriand\, Rennes\, 35000\, France
ATTACH;FMTTYPE=image/webp:https://www.mir-rennes.fr/wp-content/uploads/2025/10/9304237_David-Ellingsen-Days-of-Plenty-The-Great-Harvest-Felling-scaled.webp
ORGANIZER;CN="Maison Internationale de Rennes":MAILTO:coopdec@mir-rennes.fr
END:VEVENT
BEGIN:VEVENT
DTSTART;TZID=Europe/Paris:20251122T143000
DTEND;TZID=Europe/Paris:20251122T170000
DTSTAMP:20260422T232115
CREATED:20251010T082746Z
LAST-MODIFIED:20251010T082746Z
UID:3170-1763821800-1763830800@www.mir-rennes.fr
SUMMARY:#FESTISOL - Fresque des inégalités mondiales\, par OXFAM Rennes et ATTAC
DESCRIPTION:Participez à un atelier collaboratif pour comprendre\, ensemble\, les causes des inégalités mondiales et leurs conséquences puis échanger\, collectivement\, autour des solutions pour les combattre. Aucune connaissance n’est requise pour participer\, juste votre envie d’échanger. \nAtelier de 2h30\, ouvert à tous.tes \nSur inscription uniquement : echanges@mir-rennes.fr
URL:https://www.mir-rennes.fr/evenement/festisol-fresque-des-inegalites-mondiales-par-oxfam-rennes-et-attac/
LOCATION:2ème étage – Salle Atlantique\, 7 Quai Chateaubriand\, Rennes\, 35000\, France
ATTACH;FMTTYPE=image/webp:https://www.mir-rennes.fr/wp-content/uploads/2025/10/fresque-oxfam.webp
END:VEVENT
BEGIN:VEVENT
DTSTART;TZID=Europe/Paris:20251122T180000
DTEND;TZID=Europe/Paris:20251122T193000
DTSTAMP:20260422T232115
CREATED:20251010T083006Z
LAST-MODIFIED:20251010T083006Z
UID:3173-1763834400-1763839800@www.mir-rennes.fr
SUMMARY:#FESTISOL - Transmission des traditions africaines par le théâtre\, par Watoo Siita
DESCRIPTION:Projection du film (20min) sur le projet Gabon de l’association Watoo Siita suivie d’un spectacle de théâtre classique africain : L’Os de Mor Lam\, une pièce de Birago Dop (1h en Français). \nUne soirée engagée mêlant art\, culture et citoyenneté pour promouvoir la scolarisation des jeunes filles et sensibiliser à l’importance de l’éduction pour tous.tes. \nGratuit -15 ans\n2€ (demandeurs emplois et étudiants)\n4€ tarif plein
URL:https://www.mir-rennes.fr/evenement/festisol-transmission-des-traditions-africaines-par-le-theatre-par-watoo-siita/
LOCATION:Maison de Quartier de Villejean\, 2 Rue de Bourgogne\, Rennes\, 35000\, France
ATTACH;FMTTYPE=image/webp:https://www.mir-rennes.fr/wp-content/uploads/2025/10/Visuel-2211.webp
END:VEVENT
END:VCALENDAR