BEGIN:VCALENDAR
VERSION:2.0
PRODID:-//Maison Internationale de Rennes - ECPv6.15.20//NONSGML v1.0//EN
CALSCALE:GREGORIAN
METHOD:PUBLISH
X-WR-CALNAME:Maison Internationale de Rennes
X-ORIGINAL-URL:https://www.mir-rennes.fr
X-WR-CALDESC:Évènements pour Maison Internationale de Rennes
REFRESH-INTERVAL;VALUE=DURATION:PT1H
X-Robots-Tag:noindex
X-PUBLISHED-TTL:PT1H
BEGIN:VTIMEZONE
TZID:Europe/Paris
BEGIN:DAYLIGHT
TZOFFSETFROM:+0100
TZOFFSETTO:+0200
TZNAME:CEST
DTSTART:20240331T010000
END:DAYLIGHT
BEGIN:STANDARD
TZOFFSETFROM:+0200
TZOFFSETTO:+0100
TZNAME:CET
DTSTART:20241027T010000
END:STANDARD
BEGIN:DAYLIGHT
TZOFFSETFROM:+0100
TZOFFSETTO:+0200
TZNAME:CEST
DTSTART:20250330T010000
END:DAYLIGHT
BEGIN:STANDARD
TZOFFSETFROM:+0200
TZOFFSETTO:+0100
TZNAME:CET
DTSTART:20251026T010000
END:STANDARD
BEGIN:DAYLIGHT
TZOFFSETFROM:+0100
TZOFFSETTO:+0200
TZNAME:CEST
DTSTART:20260329T010000
END:DAYLIGHT
BEGIN:STANDARD
TZOFFSETFROM:+0200
TZOFFSETTO:+0100
TZNAME:CET
DTSTART:20261025T010000
END:STANDARD
END:VTIMEZONE
BEGIN:VEVENT
DTSTART;TZID=Europe/Paris:20251114T203000
DTEND;TZID=Europe/Paris:20251114T223000
DTSTAMP:20260422T121522
CREATED:20251010T080104Z
LAST-MODIFIED:20251010T080104Z
UID:3155-1763152200-1763159400@www.mir-rennes.fr
SUMMARY:#FESTISOL - Conférence : Pour Haïti\, quelle souveraineté alimentaire ? Par CCFD - Terre Solidaire
DESCRIPTION:Présentation du projet de jardins familiaux et du développement de l’agroécologie dans le contexte haïtien.\nDans ce pays miné par les gangs\, quelle résilience alimentaire a été mise en place par la population ? Comment l’agroécologie et les jardins familiaux ont été une réponse à cette situation extrême ?\nQuelle réflexion\, au regard de cette évolution de la production agricole haïtienne\, devons nous avoir pour notre pays ?\nAvec la participation de 2 partenaires Haïtien de l’association ITECA.
URL:https://www.mir-rennes.fr/evenement/festisol-conference-pour-haiti-quelle-souverainete-alimentaire-par-ccfd-terre-solidaire/
LOCATION:Auditorium de la Maison Internationale de Rennes\, 7 Quai Chateaubriand\, Rennes\, 35000\, France
ATTACH;FMTTYPE=image/webp:https://www.mir-rennes.fr/wp-content/uploads/2025/10/Visuel-1411-Haiti.-ITECA-Preparation-collective-des-jardins.webp
END:VEVENT
END:VCALENDAR