BEGIN:VCALENDAR
VERSION:2.0
PRODID:-//Maison Internationale de Rennes - ECPv6.15.20//NONSGML v1.0//EN
CALSCALE:GREGORIAN
METHOD:PUBLISH
X-WR-CALNAME:Maison Internationale de Rennes
X-ORIGINAL-URL:https://www.mir-rennes.fr
X-WR-CALDESC:Évènements pour Maison Internationale de Rennes
REFRESH-INTERVAL;VALUE=DURATION:PT1H
X-Robots-Tag:noindex
X-PUBLISHED-TTL:PT1H
BEGIN:VTIMEZONE
TZID:Europe/Paris
BEGIN:DAYLIGHT
TZOFFSETFROM:+0100
TZOFFSETTO:+0200
TZNAME:CEST
DTSTART:20240331T010000
END:DAYLIGHT
BEGIN:STANDARD
TZOFFSETFROM:+0200
TZOFFSETTO:+0100
TZNAME:CET
DTSTART:20241027T010000
END:STANDARD
BEGIN:DAYLIGHT
TZOFFSETFROM:+0100
TZOFFSETTO:+0200
TZNAME:CEST
DTSTART:20250330T010000
END:DAYLIGHT
BEGIN:STANDARD
TZOFFSETFROM:+0200
TZOFFSETTO:+0100
TZNAME:CET
DTSTART:20251026T010000
END:STANDARD
BEGIN:DAYLIGHT
TZOFFSETFROM:+0100
TZOFFSETTO:+0200
TZNAME:CEST
DTSTART:20260329T010000
END:DAYLIGHT
BEGIN:STANDARD
TZOFFSETFROM:+0200
TZOFFSETTO:+0100
TZNAME:CET
DTSTART:20261025T010000
END:STANDARD
END:VTIMEZONE
BEGIN:VEVENT
DTSTART;TZID=Europe/Paris:20250929T130000
DTEND;TZID=Europe/Paris:20251012T180000
DTSTAMP:20260422T003653
CREATED:20250722T081037Z
LAST-MODIFIED:20250902T095142Z
UID:3030-1759150800-1760292000@www.mir-rennes.fr
SUMMARY:Exposition - "Le conte du coupeur de bambous" & « Notes translucides »\, Encres de Chine
DESCRIPTION:Exposition « Le conte du coupeur de bambous »\, 17 aquarelles japonaises « mizu enogu » par David Balade et « Notes translucides »\, 10 photographies en noir et blanc de Mathieu de Oliveira accompagnées des calligraphies de Satsuki Goto-Carrio. \nUne exposition à deux voix\, en accompagnement des conférences de David Balade et de Gérard Rembault \nVoix 1 : Le conte du coupeur de bambous\, par David Balade  \nInspiré des grands principes de l’esthétique japonaise cristallisés durant l’ère  Heian comme le yugen (sensibilité profonde au mystère indicible de l’Univers) et le mono no aware (mélancolie devant l’impermanence des choses)\, ce conte se décline en 17 illustrations réalisées par David Balade selon la technique des aquarelles japonaises mizu enogu ainsi que celles de la  gouache et du pastel sur papier. \nVoix 2 « Notes translucides » par Matthieu De Oliveira \n10 photographies en noir et blanc accompagnées des calligraphies de Satsuki Goto-Carrio \, présentées ainsi par l’auteur : « Ouvrir des fenêtres sur le monde afin de saisir un aperçu de ce qui est donné à voir me tient à cœur depuis plusieurs années. À travers un travail photographique composé de paysages urbains ou marins\, je tente de faire apparaitre un univers onirique où la réalité se conjugue avec le mythe et invite à regarder ces images comme des mises en abîme\, portes d’entrées de mondes intérieurs présents au dehors. » L’immensité de la nature\, la solitude\, la beauté\, l’illusion des mouvements\, la fragilité de l’homme peuvent ainsi devenir des évidences.
URL:https://www.mir-rennes.fr/evenement/exposition-fenetre-sur-le-japon-par-encres-de-chine/
LOCATION:Auditorium de la Maison Internationale de Rennes\, 7 Quai Chateaubriand\, Rennes\, 35000\, France
ATTACH;FMTTYPE=image/png:https://www.mir-rennes.fr/wp-content/uploads/2025/07/Affiche-Automne-Japon_EdC-version2.png
ORGANIZER;CN="Association Encres de Chine":MAILTO:encres-de-chine@orange.fr
END:VEVENT
BEGIN:VEVENT
DTSTART;TZID=Europe/Paris:20251011T140000
DTEND;TZID=Europe/Paris:20251011T170000
DTSTAMP:20260422T003653
CREATED:20251006T140234Z
LAST-MODIFIED:20251006T140234Z
UID:3147-1760191200-1760202000@www.mir-rennes.fr
SUMMARY:Mobilisation - ça ne tient plus !
DESCRIPTION:Retrouvez la carte des mobilisations prévues près de chez vous :
URL:https://www.mir-rennes.fr/evenement/mobilisation-ca-ne-tient-plus/
ATTACH;FMTTYPE=image/webp:https://www.mir-rennes.fr/wp-content/uploads/2025/10/Logo_Mobilisation_11-octobre_-Fond-bleu-base-line.webp
END:VEVENT
BEGIN:VEVENT
DTSTART;TZID=Europe/Paris:20251011T140000
DTEND;TZID=Europe/Paris:20251012T190000
DTSTAMP:20260422T003653
CREATED:20250925T135247Z
LAST-MODIFIED:20250925T135247Z
UID:3119-1760191200-1760295600@www.mir-rennes.fr
SUMMARY:Stage de chants géorgiens - Mze Shina
DESCRIPTION:7\, quai Chateaubriand à Rennes \nsamedi :14h à 19h et dimanche 10h à 13h dimanche. \nLes inscriptions sont  ouvertes avec un tarif préférentiel jusqu’au 28 septembre !\n\n\n\nhttps://www.helloasso.com/associations/association-mze-shina/evenements/stage-de-chant-georgien-2-3
URL:https://www.mir-rennes.fr/evenement/stage-de-chants-georgiens-mze-shina-2/
LOCATION:2ème étage – Salle Atlantique\, 7 Quai Chateaubriand\, Rennes\, 35000\, France
ATTACH;FMTTYPE=image/webp:https://www.mir-rennes.fr/wp-content/uploads/2025/09/11-et-12-oct-mze-shina.webp
ORGANIZER;CN="MZE SHINA":MAILTO:shina@wanadoo.fr
END:VEVENT
END:VCALENDAR