BEGIN:VCALENDAR
VERSION:2.0
PRODID:-//Maison Internationale de Rennes - ECPv6.15.20//NONSGML v1.0//EN
CALSCALE:GREGORIAN
METHOD:PUBLISH
X-WR-CALNAME:Maison Internationale de Rennes
X-ORIGINAL-URL:https://www.mir-rennes.fr
X-WR-CALDESC:Évènements pour Maison Internationale de Rennes
REFRESH-INTERVAL;VALUE=DURATION:PT1H
X-Robots-Tag:noindex
X-PUBLISHED-TTL:PT1H
BEGIN:VTIMEZONE
TZID:Europe/Paris
BEGIN:DAYLIGHT
TZOFFSETFROM:+0100
TZOFFSETTO:+0200
TZNAME:CEST
DTSTART:20240331T010000
END:DAYLIGHT
BEGIN:STANDARD
TZOFFSETFROM:+0200
TZOFFSETTO:+0100
TZNAME:CET
DTSTART:20241027T010000
END:STANDARD
BEGIN:DAYLIGHT
TZOFFSETFROM:+0100
TZOFFSETTO:+0200
TZNAME:CEST
DTSTART:20250330T010000
END:DAYLIGHT
BEGIN:STANDARD
TZOFFSETFROM:+0200
TZOFFSETTO:+0100
TZNAME:CET
DTSTART:20251026T010000
END:STANDARD
BEGIN:DAYLIGHT
TZOFFSETFROM:+0100
TZOFFSETTO:+0200
TZNAME:CEST
DTSTART:20260329T010000
END:DAYLIGHT
BEGIN:STANDARD
TZOFFSETFROM:+0200
TZOFFSETTO:+0100
TZNAME:CET
DTSTART:20261025T010000
END:STANDARD
END:VTIMEZONE
BEGIN:VEVENT
DTSTART;TZID=Europe/Paris:20250606T193000
DTEND;TZID=Europe/Paris:20250606T213000
DTSTAMP:20260421T170644
CREATED:20250512T135422Z
LAST-MODIFIED:20250512T135422Z
UID:2914-1749238200-1749245400@www.mir-rennes.fr
SUMMARY:Concert - Musiques ... toutes en italien ! (ou presque) par Allegro Vivace
DESCRIPTION:ALLEGRO VIVACE propose un concert baroque \nDominique Le Bourdonnec\, baryton\, accompagné de Maïna Guillamet au piano chantera des airs – principalement en italien  – de Cazzatti\, Monteverdi\, Rossetti\, Mozart\, Haendel\, Haydn. \nLe prix d’entrée sera libre.
URL:https://www.mir-rennes.fr/evenement/concert-musiques-toutes-en-italien-ou-presque-par-allegro-vivace/
LOCATION:Auditorium de la Maison Internationale de Rennes\, 7 Quai Chateaubriand\, Rennes\, 35000\, France
ATTACH;FMTTYPE=image/png:https://www.mir-rennes.fr/wp-content/uploads/2025/05/Concert-Allegro-Vivace-6-juin.png
END:VEVENT
BEGIN:VEVENT
DTSTART;TZID=Europe/Paris:20250611T180000
DTEND;TZID=Europe/Paris:20250611T200000
DTSTAMP:20260421T170644
CREATED:20250602T153723Z
LAST-MODIFIED:20250602T153723Z
UID:2939-1749664800-1749672000@www.mir-rennes.fr
SUMMARY:Table ronde - Sur le sujet des femmes exilées\, par Déclic Femmes
DESCRIPTION:
URL:https://www.mir-rennes.fr/evenement/table-ronde-sur-le-sujet-des-femmes-exilees-par-declic-femmes/
LOCATION:Auditorium de la Maison Internationale de Rennes\, 7 Quai Chateaubriand\, Rennes\, 35000\, France
ATTACH;FMTTYPE=image/jpeg:https://www.mir-rennes.fr/wp-content/uploads/2025/06/Delic-Femmes-11-juin.jpg
END:VEVENT
BEGIN:VEVENT
DTSTART;TZID=Europe/Paris:20250616T180000
DTEND;TZID=Europe/Paris:20250616T220000
DTSTAMP:20260421T170644
CREATED:20250602T125957Z
LAST-MODIFIED:20250602T132339Z
UID:2934-1750096800-1750111200@www.mir-rennes.fr
SUMMARY:Rencontre - Présentation du livre « Révolutions de notre temps – manifeste internationaliste » par le CRIDEV
DESCRIPTION:Présentation du livre « Révolutions de notre temps – manifeste internationaliste »\nLe CRIDEV invite à une rencontre le lundi 16 juin à 18h à la Maison Internationale de Rennes (MIR)\, 7 quai Chateaubriand\, autour du manifeste du réseau « Les peuples veulent »\, dont des membres seront présent⋅es. \nDepuis les expériences des soulèvements dans de nombreux pays du monde qui ont constitué et suivi ce qu’on a appelé les « Printemps arabes »\, le manifeste du réseau « Les peuples veulent » cherche à faire exister ce qu’il appelle un « internationalisme par le bas\, qui se concentre sur les intérêts des peuples et non ceux des États. Un internationalisme qui promeuve la solidarité et l’entraide entre celles et ceux qui sont en lutte\, jusqu’au coeur des périodes de crise\, de guerres ou de soulèvements.  » \nL’exil offre la possibilité de rencontres et de croisements entre ces (très) diverses expériences. C’est ainsi que le réseau « Les peuples veulent » a été créé à la fin des années 2010 en France\, par des personnes originaires notamment de Tunisie\, de Syrie\, du Soudan\, d’Iran\, du Chili ou du Liban (sous oublier des participants du mouvement des Gilets Jaunes). Son point de départ\, ce sont les liens directs et réels qui se sont noués autour de la « cantine syrienne » à Montreuil : projeter la révolution dans tous les pays depuis les rencontres qu’on peut faire à la table d’une cantine populaire en banlieue parisienne\, voilà une bonne illustration de l’ »internationalisme par le bas » ! \nLa présentation du livre sera l’occasion de discuter des enseignements et des questions ouvertes par chacune de ces expériences de lutte. On aimerait aussi qu’elle puisse servir\, dans l’esprit des « Peuples veulent »\, à initier des rencontres entre les habitant.es de la région rennaise qui sont en lien avec des luttes partout dans le monde : exilé.es\, membres d’associations communautaires ou de comité de soutien\, etc.
URL:https://www.mir-rennes.fr/evenement/rencontre-presentation-du-livre-revolutions-de-notre-temps-manifeste-internationaliste-par-le-cridev/
LOCATION:Auditorium de la Maison Internationale de Rennes\, 7 Quai Chateaubriand\, Rennes\, 35000\, France
ATTACH;FMTTYPE=image/jpeg:https://www.mir-rennes.fr/wp-content/uploads/2025/06/CRIDEV-16-juin.jpg
END:VEVENT
BEGIN:VEVENT
DTSTART;TZID=Europe/Paris:20250619T180000
DTEND;TZID=Europe/Paris:20250619T200000
DTSTAMP:20260421T170644
CREATED:20250602T135351Z
LAST-MODIFIED:20250602T135351Z
UID:2936-1750356000-1750363200@www.mir-rennes.fr
SUMMARY:Conférence - Matériaux critiques et transition technologique : Quel rôle pour la République Démocratique du Congo ? par l'Ecole 3A (Campus The Land)
DESCRIPTION:Conférence portant sur les matériaux Critiques dans la transition technologique ainsi que le rôle de la République Démocratique du Congo. Dans un contexte de mutation écologique et technologique mondiale\, la ville de Rennes accueillera\, le jeudi 19 Juin 2025\, une conférence majeure sur les matériaux critiques\, ces ressources stratégiques indispensables à la transition énergétique\, à l’innovation numérique et à l’industrie de défense.\nInvité d’honneur : le Professeur Emile NGOY KASANGO\, Ambassadeur de la République démocratique du Congo en France.\nPays clés dans l’approvisionnement mondial en cobalt\, lithium\, cuivre et autres ressources essentielles\, la République démocratique du Congo représente également 70% de la superficie du bassin du Congo\, deuxième poumon écologique au monde.\nCette rencontre sera l’occasion d’examiner les forces et vulnérabilités géopolitiques\, économiques et environnementales de ce pays\, au cœur des enjeux du XXIe siècle.\nUn évènement interdisciplinaire et engagé\nLa conférence réunira des acteurs du monde académique\, humanitaire\, environnemental et géopolitique\, dans une démarche de dialogue et de réflexion sur les conditions d’une exploitation durable\, éthique et pacifique des ressources naturelles.\nPublic visé/ étudiants\, chercheurs\, élus\, professionnels du développement\, membres d’ONG\, journalistes\, citoyens engagés.
URL:https://www.mir-rennes.fr/evenement/conference-materiaux-critiques-et-transition-technologique-quel-role-pour-la-republique-democratique-du-congo-par-lecole-3a-campus-the-land/
LOCATION:Auditorium de la Maison Internationale de Rennes\, 7 Quai Chateaubriand\, Rennes\, 35000\, France
ATTACH;FMTTYPE=image/png:https://www.mir-rennes.fr/wp-content/uploads/2025/06/The-land.png
END:VEVENT
BEGIN:VEVENT
DTSTART;TZID=Europe/Paris:20250620T193000
DTEND;TZID=Europe/Paris:20250620T213000
DTSTAMP:20260421T170644
CREATED:20250203T150656Z
LAST-MODIFIED:20250203T150656Z
UID:2520-1750447800-1750455000@www.mir-rennes.fr
SUMMARY:Veronika Rodriguez Jazz Quintet chante les grandes voix du Jazz
DESCRIPTION:VERONIKA RODRIGUEZ CHANTE LES GRANDES VOIX DU JAZZ \nLE VENDREDI 20 JUIN 2025 A L’AUDITORIUM ESPACE INTERNATIONAL PIERRE JAFFRY \n19H30 \nAvec sa voix si personnelle et son sens inné de la scène\, Veronika Rodriguez interprétera \nles plus grands succès et standards des grandes voix américaines du Jazz telles que Ella Fitzgerald\, Sarah Vaughan\, Billie Holiday\, Nina Simon etc… \nElle sera accompagnée par le saxophoniste\, chef d’orchestre et arrangeur Jean-Philippe Vidal\, le pianiste Pierre Le Bot\, le contrebassiste Olivier Delaire et le batteur Gabor Turi \nReconnue comme l’une des meilleures ambassadrices du Jazz français sur la scène internationale\, elle a reçu à New York le prix « Best Jazz Vocal Performance of the Year ». Veronika Rodriguez possède une voix chaude et sensuelle\, un swing et un charme irrésistibles et son style est comparé aux grandes chanteuses américaines telles que Ella Fitzgerald\, Anita O’Day\, Peggy Lee…
URL:https://www.mir-rennes.fr/evenement/veronika-rodriguez-jazz-quintet-chante-les-grandes-voix-du-jazz/
LOCATION:Auditorium de la Maison Internationale de Rennes\, 7 Quai Chateaubriand\, Rennes\, 35000\, France
ATTACH;FMTTYPE=image/jpeg:https://www.mir-rennes.fr/wp-content/uploads/2025/02/Veronika-Rodriguez-Jazz-Quintet-chante-les-grandes-voix-du-Jazz-scaled.jpg
ORGANIZER;CN="Cote Ouest Music":MAILTO:cote-ouest-music@wanadoo.fr
END:VEVENT
BEGIN:VEVENT
DTSTART;TZID=Europe/Paris:20250622T190000
DTEND;TZID=Europe/Paris:20250622T210000
DTSTAMP:20260421T170644
CREATED:20250620T142846Z
LAST-MODIFIED:20250620T142846Z
UID:2985-1750618800-1750626000@www.mir-rennes.fr
SUMMARY:Projection - Retour en Syrie\, par Emisa Homs
DESCRIPTION:
URL:https://www.mir-rennes.fr/evenement/projection-retour-en-syrie-par-emisa-homs-3/
LOCATION:Auditorium de la Maison Internationale de Rennes\, 7 Quai Chateaubriand\, Rennes\, 35000\, France
ATTACH;FMTTYPE=image/jpeg:https://www.mir-rennes.fr/wp-content/uploads/2025/06/508190627_1124194733082345_243661067075154830_n.jpg
ORGANIZER;CN="Emisa-Homs":MAILTO:emisahoms.rennes@yahoo.com
END:VEVENT
BEGIN:VEVENT
DTSTART;TZID=Europe/Paris:20250623T150000
DTEND;TZID=Europe/Paris:20250627T180000
DTSTAMP:20260421T170644
CREATED:20250618T121937Z
LAST-MODIFIED:20250618T121937Z
UID:2977-1750690800-1751047200@www.mir-rennes.fr
SUMMARY:Exposition - "La chasse à l'aigle" au Kazakhstan\, par le comité de jumelage Rennes-Almaty
DESCRIPTION:
URL:https://www.mir-rennes.fr/evenement/exposition-la-chasse-a-laigle-au-kazakhstan-par-le-comite-de-jumelage-rennes-almaty/
LOCATION:Galerie de la Maison Internationale de Rennes\, 7 Quai Chateaubriand\, Rennes\, 35000\, France
ATTACH;FMTTYPE=image/png:https://www.mir-rennes.fr/wp-content/uploads/2025/06/Invitation-Abai-26-juin.png
END:VEVENT
BEGIN:VEVENT
DTSTART;TZID=Europe/Paris:20250623T183000
DTEND;TZID=Europe/Paris:20250623T213000
DTSTAMP:20260421T170644
CREATED:20250602T125546Z
LAST-MODIFIED:20250602T130159Z
UID:2932-1750703400-1750714200@www.mir-rennes.fr
SUMMARY:Conférence - Avec Jeannine Genin sur Charles Foucauld par l'association de jumelage Rennes/Sétif
DESCRIPTION:
URL:https://www.mir-rennes.fr/evenement/conference-avec-jeannine-genin-sur-charles-foucauld/
LOCATION:Accueil de la Maison Internationale de Rennes\, 7 Quai Chateaubriand\, Rennes\, France
ATTACH;FMTTYPE=image/jpeg:https://www.mir-rennes.fr/wp-content/uploads/2025/06/Rennes-Setif-23-juin.jpg
END:VEVENT
BEGIN:VEVENT
DTSTART;TZID=Europe/Paris:20250626T160000
DTEND;TZID=Europe/Paris:20250626T180000
DTSTAMP:20260421T170644
CREATED:20250618T122102Z
LAST-MODIFIED:20250618T122102Z
UID:2980-1750953600-1750960800@www.mir-rennes.fr
SUMMARY:Conférence sur Abaï et vernissage de l'exposition du comité de jumelage Rennes-Almaty
DESCRIPTION:
URL:https://www.mir-rennes.fr/evenement/conference-sur-abai-et-vernissage-de-lexposition-du-comite-de-jumelage-rennes-almaty/
LOCATION:Auditorium de la Maison Internationale de Rennes\, 7 Quai Chateaubriand\, Rennes\, 35000\, France
ATTACH;FMTTYPE=image/png:https://www.mir-rennes.fr/wp-content/uploads/2025/06/Invitation-Abai-26-juin-1.png
END:VEVENT
BEGIN:VEVENT
DTSTART;TZID=Europe/Paris:20250627T180000
DTEND;TZID=Europe/Paris:20250627T193000
DTSTAMP:20260421T170644
CREATED:20250603T085613Z
LAST-MODIFIED:20250603T085613Z
UID:2942-1751047200-1751052600@www.mir-rennes.fr
SUMMARY:Rencontre - Une bibliothèque née d'un rêve\, par Kalissoki
DESCRIPTION:
URL:https://www.mir-rennes.fr/evenement/rencontre-une-bibliotheque-nee-dun-reve-par-kalissoki/
LOCATION:2ème étage – Salle Atlantique\, 7 Quai Chateaubriand\, Rennes\, 35000\, France
ATTACH;FMTTYPE=image/png:https://www.mir-rennes.fr/wp-content/uploads/2025/06/27-juin.png
END:VEVENT
END:VCALENDAR