BEGIN:VCALENDAR
VERSION:2.0
PRODID:-//Maison Internationale de Rennes - ECPv6.15.20//NONSGML v1.0//EN
CALSCALE:GREGORIAN
METHOD:PUBLISH
X-WR-CALNAME:Maison Internationale de Rennes
X-ORIGINAL-URL:https://www.mir-rennes.fr
X-WR-CALDESC:Évènements pour Maison Internationale de Rennes
REFRESH-INTERVAL;VALUE=DURATION:PT1H
X-Robots-Tag:noindex
X-PUBLISHED-TTL:PT1H
BEGIN:VTIMEZONE
TZID:Europe/Paris
BEGIN:DAYLIGHT
TZOFFSETFROM:+0100
TZOFFSETTO:+0200
TZNAME:CEST
DTSTART:20240331T010000
END:DAYLIGHT
BEGIN:STANDARD
TZOFFSETFROM:+0200
TZOFFSETTO:+0100
TZNAME:CET
DTSTART:20241027T010000
END:STANDARD
BEGIN:DAYLIGHT
TZOFFSETFROM:+0100
TZOFFSETTO:+0200
TZNAME:CEST
DTSTART:20250330T010000
END:DAYLIGHT
BEGIN:STANDARD
TZOFFSETFROM:+0200
TZOFFSETTO:+0100
TZNAME:CET
DTSTART:20251026T010000
END:STANDARD
BEGIN:DAYLIGHT
TZOFFSETFROM:+0100
TZOFFSETTO:+0200
TZNAME:CEST
DTSTART:20260329T010000
END:DAYLIGHT
BEGIN:STANDARD
TZOFFSETFROM:+0200
TZOFFSETTO:+0100
TZNAME:CET
DTSTART:20261025T010000
END:STANDARD
END:VTIMEZONE
BEGIN:VEVENT
DTSTART;TZID=Europe/Paris:20250616T180000
DTEND;TZID=Europe/Paris:20250616T220000
DTSTAMP:20260421T183206
CREATED:20250602T125957Z
LAST-MODIFIED:20250602T132339Z
UID:2934-1750096800-1750111200@www.mir-rennes.fr
SUMMARY:Rencontre - Présentation du livre « Révolutions de notre temps – manifeste internationaliste » par le CRIDEV
DESCRIPTION:Présentation du livre « Révolutions de notre temps – manifeste internationaliste »\nLe CRIDEV invite à une rencontre le lundi 16 juin à 18h à la Maison Internationale de Rennes (MIR)\, 7 quai Chateaubriand\, autour du manifeste du réseau « Les peuples veulent »\, dont des membres seront présent⋅es. \nDepuis les expériences des soulèvements dans de nombreux pays du monde qui ont constitué et suivi ce qu’on a appelé les « Printemps arabes »\, le manifeste du réseau « Les peuples veulent » cherche à faire exister ce qu’il appelle un « internationalisme par le bas\, qui se concentre sur les intérêts des peuples et non ceux des États. Un internationalisme qui promeuve la solidarité et l’entraide entre celles et ceux qui sont en lutte\, jusqu’au coeur des périodes de crise\, de guerres ou de soulèvements.  » \nL’exil offre la possibilité de rencontres et de croisements entre ces (très) diverses expériences. C’est ainsi que le réseau « Les peuples veulent » a été créé à la fin des années 2010 en France\, par des personnes originaires notamment de Tunisie\, de Syrie\, du Soudan\, d’Iran\, du Chili ou du Liban (sous oublier des participants du mouvement des Gilets Jaunes). Son point de départ\, ce sont les liens directs et réels qui se sont noués autour de la « cantine syrienne » à Montreuil : projeter la révolution dans tous les pays depuis les rencontres qu’on peut faire à la table d’une cantine populaire en banlieue parisienne\, voilà une bonne illustration de l’ »internationalisme par le bas » ! \nLa présentation du livre sera l’occasion de discuter des enseignements et des questions ouvertes par chacune de ces expériences de lutte. On aimerait aussi qu’elle puisse servir\, dans l’esprit des « Peuples veulent »\, à initier des rencontres entre les habitant.es de la région rennaise qui sont en lien avec des luttes partout dans le monde : exilé.es\, membres d’associations communautaires ou de comité de soutien\, etc.
URL:https://www.mir-rennes.fr/evenement/rencontre-presentation-du-livre-revolutions-de-notre-temps-manifeste-internationaliste-par-le-cridev/
LOCATION:Auditorium de la Maison Internationale de Rennes\, 7 Quai Chateaubriand\, Rennes\, 35000\, France
ATTACH;FMTTYPE=image/jpeg:https://www.mir-rennes.fr/wp-content/uploads/2025/06/CRIDEV-16-juin.jpg
END:VEVENT
END:VCALENDAR