BEGIN:VCALENDAR
VERSION:2.0
PRODID:-//Maison Internationale de Rennes - ECPv6.15.20//NONSGML v1.0//EN
CALSCALE:GREGORIAN
METHOD:PUBLISH
X-ORIGINAL-URL:https://www.mir-rennes.fr
X-WR-CALDESC:Évènements pour Maison Internationale de Rennes
REFRESH-INTERVAL;VALUE=DURATION:PT1H
X-Robots-Tag:noindex
X-PUBLISHED-TTL:PT1H
BEGIN:VTIMEZONE
TZID:Europe/Paris
BEGIN:DAYLIGHT
TZOFFSETFROM:+0100
TZOFFSETTO:+0200
TZNAME:CEST
DTSTART:20240331T010000
END:DAYLIGHT
BEGIN:STANDARD
TZOFFSETFROM:+0200
TZOFFSETTO:+0100
TZNAME:CET
DTSTART:20241027T010000
END:STANDARD
BEGIN:DAYLIGHT
TZOFFSETFROM:+0100
TZOFFSETTO:+0200
TZNAME:CEST
DTSTART:20250330T010000
END:DAYLIGHT
BEGIN:STANDARD
TZOFFSETFROM:+0200
TZOFFSETTO:+0100
TZNAME:CET
DTSTART:20251026T010000
END:STANDARD
BEGIN:DAYLIGHT
TZOFFSETFROM:+0100
TZOFFSETTO:+0200
TZNAME:CEST
DTSTART:20260329T010000
END:DAYLIGHT
BEGIN:STANDARD
TZOFFSETFROM:+0200
TZOFFSETTO:+0100
TZNAME:CET
DTSTART:20261025T010000
END:STANDARD
END:VTIMEZONE
BEGIN:VEVENT
DTSTART;TZID=Europe/Paris:20250507T183000
DTEND;TZID=Europe/Paris:20250507T210000
DTSTAMP:20260421T154107
CREATED:20250304T090300Z
LAST-MODIFIED:20250304T090300Z
UID:2798-1746642600-1746651600@www.mir-rennes.fr
SUMMARY:Conférence - C.Barreault sur l’exposition « La Chine des Tang\, une dynastie cosmopolite (7e -10e siècle) ». par Encres de Chine
DESCRIPTION:Présentation \nL’association Encres de Chine invite Constance Barreault à présenter l’extraordinaire exposition qui a fermé ses portes au musée Guimet début mars\, sur la riche dynastie des Tang. Parmi les 207 œuvres prêtées par 32 institutions chinoises\, elle a choisi pour vous les œuvres les plus emblématiques capables de réjouir les yeux et l’esprit. \n« Nous entrerons dans l’esthétique qui accompagne la pensée des Tang grâce aux découvertes récentes d’objets retrouvés lors de fouilles liées à la construction du métro. Certains apportent des témoignages archéologiques de première importance\, confirmant des textes de l’époque dans des domaines très divers tels la dégustation du thé\, la cavalerie\, la présence d’étrangers ou le bouddhisme chan ». Constance Barreault \nPrix de l’entrée\nTarif normal : 12€\, réduit : 10€ (adhérents)\, enfants et étudiants: 8€.\nRéservation\nVous pouvez dès maintenant réserver vos places par mail sur encres-de-chine@orange.fr ou par téléphone au 06 07 86 36 08
URL:https://www.mir-rennes.fr/evenement/conference-c-barreault-sur-lexposition-la-chine-des-tang-une-dynastie-cosmopolite-7e-10e-siecle-par-encres-de-chine/
LOCATION:Auditorium de la Maison Internationale de Rennes\, 7 Quai Chateaubriand\, Rennes\, 35000\, France
ATTACH;FMTTYPE=image/jpeg:https://www.mir-rennes.fr/wp-content/uploads/2025/03/7-mai-Encres-de-Chine.jpg
ORGANIZER;CN="Association Encres de Chine":MAILTO:encres-de-chine@orange.fr
END:VEVENT
BEGIN:VEVENT
DTSTART;TZID=Europe/Paris:20250510T140000
DTEND;TZID=Europe/Paris:20250510T190000
DTSTAMP:20260421T154107
CREATED:20250415T094643Z
LAST-MODIFIED:20250425T095140Z
UID:2869-1746885600-1746903600@www.mir-rennes.fr
SUMMARY:#Rennes au pluriel - Inauguration de la bibliothèque Ubuntu par MATA et la MIR
DESCRIPTION:  \nFrancis Le Hérissé\, décédé le 3 août 2024 à 88 ans\, aura été de tous les combats citoyens durant soixante-dix ans. Il avait entrepris de partager son parcours et surtout son expérience du monde associatif breton\, en particulier rennais : malheureusement\, militant jusqu’à ses derniers jours\, il n’a pu aller au bout de son projet. \nUn collectif réalise la suite de l’ouvrage à partir des écrits et documents réunis par Francis. La date de sortie de « Francis Le Hérissé\, une vie de combats »\, publié aux Éditions Histoires Ordinaires\, est prévue le 10 mai 2025\,  la journée nationale de commémoration des mémoires de la traite\, de l’esclavage et de leur abolition. \nPour en faciliter la réalisation\, on peut le pré-commander au prix de 15 € : une souscription est ouverte sur HelloAsso en cliquant ici. 
URL:https://www.mir-rennes.fr/evenement/rennes-au-pluriel-inauguration-de-la-bibliotheque-ubuntu-par-mata-et-la-mir/
LOCATION:Auditorium de la Maison Internationale de Rennes\, 7 Quai Chateaubriand\, Rennes\, 35000\, France
ATTACH;FMTTYPE=image/png:https://www.mir-rennes.fr/wp-content/uploads/2025/04/Flyer-10-mai-A5.png
ORGANIZER;CN="MATA":MAILTO:mata.asso.france@gmail.com
END:VEVENT
BEGIN:VEVENT
DTSTART;TZID=Europe/Paris:20250511T170000
DTEND;TZID=Europe/Paris:20250511T210000
DTSTAMP:20260421T154107
CREATED:20250415T090400Z
LAST-MODIFIED:20250415T090400Z
UID:2867-1746982800-1746997200@www.mir-rennes.fr
SUMMARY:#Rennes au pluriel - Projection/Concert : Exil et Espoir par Sholem
DESCRIPTION:
URL:https://www.mir-rennes.fr/evenement/rennes-au-pluriel-projection-concert-exil-et-espoir-par-sholem/
ATTACH;FMTTYPE=image/jpeg:https://www.mir-rennes.fr/wp-content/uploads/2025/04/Sholem_exil-et-espoir.jpg
ORGANIZER;CN="Association Sholem":MAILTO:association.sholem@hotmail.com
END:VEVENT
BEGIN:VEVENT
DTSTART;TZID=Europe/Paris:20250513T180000
DTEND;TZID=Europe/Paris:20250513T210000
DTSTAMP:20260421T154107
CREATED:20250418T052440Z
LAST-MODIFIED:20250418T054643Z
UID:2861-1747159200-1747170000@www.mir-rennes.fr
SUMMARY:#Rennes Fête l'Europe - Projection/Echanges/  Concert : Mémoires Tsiganes\, l'autre génocide par la MIR
DESCRIPTION:Le film retrace le destin tragique des Tsiganes en Europe durant la Seconde Guerre mondiale\, de l’exclusion à l’extermination. À travers témoignages et archives inédites\, il dévoile un pan méconnu de l’histoire et la disparition d’un monde. A l’issu de la projection\, échanges avec Idit Bloch (co-réalisatrice) et Henriette Asséo (historienne spécialiste des Tsiganes d’Europe). \nClôture musicale : Jazz manouche avec Pitou Weiss.
URL:https://www.mir-rennes.fr/evenement/rennes-fete-leurope-projection-echanges-concert-memoires-tsiganes-lautre-genocide-par-la-mir/
LOCATION:Auditorium de la Maison Internationale de Rennes\, 7 Quai Chateaubriand\, Rennes\, 35000\, France
ATTACH;FMTTYPE=image/png:https://www.mir-rennes.fr/wp-content/uploads/2025/04/E1-FLYER-Memoires-tsiganes.png
ORGANIZER;CN="Maison Internationale de Rennes":MAILTO:coopdec@mir-rennes.fr
END:VEVENT
BEGIN:VEVENT
DTSTART;TZID=Europe/Paris:20250514T183000
DTEND;TZID=Europe/Paris:20250514T203000
DTSTAMP:20260421T154107
CREATED:20250418T050710Z
LAST-MODIFIED:20250418T051154Z
UID:2862-1747247400-1747254600@www.mir-rennes.fr
SUMMARY:#Rennes Fête l'Europe - Concert/Conférence : Grands airs et petites histoires … L’épopée européenne de l’Opéra par Les Bretons vont à l'Opéra
DESCRIPTION:Panorama de l’histoire de l’opéra au XIXe et début XXe siècle à travers l’Europe. De l’Italie aux terres slaves en passant par la France et les terres germaniques\, venez découvrir les grandes évolutions\, les anecdotes méconnues et les grands compositeurs à travers des récits historiques et des moments chantés. Avec Julia Le Brun (pianiste et conférencière) et Marguerite Berger (soprano). \n  \nEntrée : 15€\nEtudiants/Adhérents : 10€
URL:https://www.mir-rennes.fr/evenement/rennes-fete-leurope-concert-conference-grands-airs-et-petites-histoires-lepopee-europeenne-de-lopera-par-les-bretons-vont-a-lopera/
LOCATION:Auditorium de la Maison Internationale de Rennes\, 7 Quai Chateaubriand\, Rennes\, 35000\, France
ATTACH;FMTTYPE=image/png:https://www.mir-rennes.fr/wp-content/uploads/2025/04/E2-Affiche-concert-Rennes.png
END:VEVENT
BEGIN:VEVENT
DTSTART;TZID=Europe/Paris:20250515T183000
DTEND;TZID=Europe/Paris:20250515T203000
DTSTAMP:20260421T154107
CREATED:20250418T050559Z
LAST-MODIFIED:20250418T070842Z
UID:2865-1747333800-1747341000@www.mir-rennes.fr
SUMMARY:#Rennes Fête l'Europe - Table ronde : Le droit à l'aide à mourir\, quel rôle pour l'Europe ? Par Eumans
DESCRIPTION:Réflexion autour de la fin de vie et les perspectives européennes.\nAvec : Philippe Merel (délégué ADMD 35)\, Marco Cappato (Eumans)\, Laurence Maillart-Méhaignerie et Vincent Morel (CHU Rennes – Soins palliatifs).
URL:https://www.mir-rennes.fr/evenement/rennes-fete-leurope-table-ronde-le-droit-a-laide-a-mourir-quel-role-pour-leurope-par-eumans/
LOCATION:Auditorium de la Maison Internationale de Rennes\, 7 Quai Chateaubriand\, Rennes\, 35000\, France
ATTACH;FMTTYPE=image/png:https://www.mir-rennes.fr/wp-content/uploads/2025/04/MIR-Rennes-15-mai-V2.png
END:VEVENT
BEGIN:VEVENT
DTSTART;TZID=Europe/Paris:20250516T180000
DTEND;TZID=Europe/Paris:20250516T200000
DTSTAMP:20260421T154107
CREATED:20250418T052141Z
LAST-MODIFIED:20250418T052141Z
UID:2864-1747418400-1747425600@www.mir-rennes.fr
SUMMARY:#Rennes Fête l'Europe - Rencontre/Lecture poétique : La poésie\, une forme d'hospitalité par le Consulat Honoraire d'Espagne
DESCRIPTION:Rencontre avec le poète espagnol Luis García Montero et sa traductrice Françoise Dubosquet. Participez à un voyage en poésie à travers une lecture bilingue et des échanges autour des grands thèmes de son œuvre : liberté\, exil\, réfugiés\, droits humains et valeurs européennes.
URL:https://www.mir-rennes.fr/evenement/rennes-fete-leurope-rencontre-lecture-poetique-la-poesie-une-forme-dhospitalite-par-le-consulat-honoraire-despagne/
LOCATION:Auditorium de la Maison Internationale de Rennes\, 7 Quai Chateaubriand\, Rennes\, 35000\, France
ATTACH;FMTTYPE=image/png:https://www.mir-rennes.fr/wp-content/uploads/2025/04/E3-2AFFICHE-MIR_Page_1.png
END:VEVENT
BEGIN:VEVENT
DTSTART;TZID=Europe/Paris:20250520T180000
DTEND;TZID=Europe/Paris:20250520T210000
DTSTAMP:20260421T154107
CREATED:20250418T053107Z
LAST-MODIFIED:20250418T053107Z
UID:2892-1747764000-1747774800@www.mir-rennes.fr
SUMMARY:#Rennes Fête l'Europe - Echanges/Concert : La Pologne à l'honneur ; présidence du conseil de l'UE\, culture et musique par Polonia de Rennes et Haute Bretagne\, Jeunes Européens 35 et Rennes-Poznań
DESCRIPTION:À l’occasion de la présidence polonaise du Conseil de l’Union européenne\, l’association Polonia met en lumière ses grandes priorités\, notamment en matière de sécurité en Europe. Le jeune guitariste et compositeur Michał Obrębski\, originaire de Poznań – ville jumelée avec Rennes -\, y offrira un concert. Une belle occasion de découvrir son univers musical\, entre modernité et héritage culturel polonais. La soirée s’achèvera par un moment convivial autour d’une dégustation de spécialités polonaises.
URL:https://www.mir-rennes.fr/evenement/rennes-fete-leurope-echanges-concert-la-pologne-a-lhonneur-presidence-du-conseil-de-lue-culture-et-musique-par-polonia-de-rennes-et-haute-bretagne-jeunes-europeens-35-et-rennes-poznan/
LOCATION:Auditorium de la Maison Internationale de Rennes\, 7 Quai Chateaubriand\, Rennes\, 35000\, France
ATTACH;FMTTYPE=image/jpeg:https://www.mir-rennes.fr/wp-content/uploads/2025/04/E6-Michal-Obrebski-Routine.jpg
END:VEVENT
BEGIN:VEVENT
DTSTART;TZID=Europe/Paris:20250521T160000
DTEND;TZID=Europe/Paris:20250521T230000
DTSTAMP:20260421T154107
CREATED:20250418T052011Z
LAST-MODIFIED:20250418T052011Z
UID:2880-1747843200-1747868400@www.mir-rennes.fr
SUMMARY:#Rennes Fête l'Europe - Journée d’échanges interculturels : Pour une Europe accueillante par MATA\, Solidarité Roumanie 35 et Association Hellénique de Bretagne
DESCRIPTION:Cette journée a pour ambition de créer des temps forts partagés et des espaces de rencontre propices à l’échange interculturel. Née d’une dynamique citoyenne rennaise\, elle invite à découvrir la richesse des cultures présentes à Rennes et en Europe\, à travers une programmation artistique\, gustative et participative. En favorisant le dialogue et la reconnaissance mutuelle\, cette initiative contribue à la construction d’une identité culturelle commune\, fondée sur la diversité. \n16h : Exposition d’art postal\, marchés des saveurs et « arbre à palabres »\n18h30 : Courts métrages grecs et roumains sur les migrations\n20h30 : Dégustation de spécialités roumaines\, grecques et nigériennes + démonstration de danse grecque\n21h : Concert d’un ensemble de musique Kesmer « Flying Fish » et de 20 élèves saxophonistes soutenus par Solidarité Roumanie 35 puis du groupe Afro Beat Family
URL:https://www.mir-rennes.fr/evenement/rennes-fete-leurope-journee-dechanges-interculturels-pour-une-europe-accueillante-par-mata-solidarite-roumanie-35-et-association-hellenique-de-bretagne/
LOCATION:Maison de Quartier de Villejean\, 2 Rue de Bourgogne\, Rennes\, 35000\, France
ATTACH;FMTTYPE=image/jpeg:https://www.mir-rennes.fr/wp-content/uploads/2025/04/UMMY_Nikos-Avgoustidis_02.jpg
ORGANIZER;CN="MATA":MAILTO:mata.asso.france@gmail.com
END:VEVENT
BEGIN:VEVENT
DTSTART;TZID=Europe/Paris:20250522T093000
DTEND;TZID=Europe/Paris:20250522T173000
DTSTAMP:20260421T154107
CREATED:20250418T051105Z
LAST-MODIFIED:20250418T051355Z
UID:2881-1747906200-1747935000@www.mir-rennes.fr
SUMMARY:#Rennes Fête l'Europe - Ateliers participatifs\, artistiques et créatifs : Découverte multisensorielle de la culture hispanique par l'Université de Rennes 2\, Valentin Haüy\, Projet Tissage et le CELLAM
DESCRIPTION:Une série d’ateliers multisensoriels mêlant littérature\, musique\, danse\, chant\, sculpture\, peinture et cinéma\, conçue pour être accessible à toutes et tous\, avec une attention particulière portée aux personnes déficientes visuelles. \nChaque expérience propose une immersion sensible\, invitant à explorer l’interculturalité\, à questionner les différences de perception et à ouvrir grand les portes de l’imaginaire. \nConsultez le programme détaillé des ateliers – Programme
URL:https://www.mir-rennes.fr/evenement/rennes-fete-leurope-ateliers-participatifs-artistiques-et-creatifs-decouverte-multisensorielle-de-la-culture-hispanique-par-luniversite-de-rennes-2-valentin-hauy-projet-tissage-et-le-cella/
LOCATION:Auditorium de la Maison Internationale de Rennes\, 7 Quai Chateaubriand\, Rennes\, 35000\, France
ATTACH;FMTTYPE=image/png:https://www.mir-rennes.fr/wp-content/uploads/2025/04/E8-Image1.png
END:VEVENT
BEGIN:VEVENT
DTSTART;TZID=Europe/Paris:20250525T150000
DTEND;TZID=Europe/Paris:20250525T200000
DTSTAMP:20260421T154107
CREATED:20250516T091744Z
LAST-MODIFIED:20250516T091744Z
UID:2921-1748185200-1748203200@www.mir-rennes.fr
SUMMARY:Projection - Retour en Syrie par Emisa Homs
DESCRIPTION:
URL:https://www.mir-rennes.fr/evenement/projection-retour-en-syrie-par-emisa-homs/
LOCATION:Auditorium de la Maison Internationale de Rennes\, 7 Quai Chateaubriand\, Rennes\, 35000\, France
ATTACH;FMTTYPE=image/jpeg:https://www.mir-rennes.fr/wp-content/uploads/2025/05/Emisa-Homs-25-mai.jpg
ORGANIZER;CN="Emisa-Homs":MAILTO:emisahoms.rennes@yahoo.com
END:VEVENT
BEGIN:VEVENT
DTSTART;TZID=Europe/Paris:20250526T180000
DTEND;TZID=Europe/Paris:20250526T210000
DTSTAMP:20260421T154107
CREATED:20250418T053346Z
LAST-MODIFIED:20250418T054722Z
UID:2894-1748282400-1748293200@www.mir-rennes.fr
SUMMARY:#Rennes Fête l’Europe - Projection/Echanges/  Concert : Liberté et démocratie en Europe par INTER+VALUE
DESCRIPTION:Souvenir en images et clin d’œil en musique à une révolution pacifique exemplaire\, la Révolution des œillets qui\, en avril 1974\, libérait le Portugal de la dictature et y ouvrait la voie à la démocratie\, la décolonisation et l’intégration européenne. Là-bas\, comme ailleurs en Europe\, quelle est la situation actuelle de la démocratie face au nouvel essor des mouvements de rejet ? \nProjection-débat autour du documentaire Des œillets pour la révolution (Arte\, 2024). \nTemps convivial et concert : Fado et autres musicalités du Portugal par Céline Costa et son groupe.
URL:https://www.mir-rennes.fr/evenement/rennes-fete-leurope-projection-echanges-concert-liberte-et-democratie-en-europe-par-intervalue/
LOCATION:Auditorium de la Maison Internationale de Rennes\, 7 Quai Chateaubriand\, Rennes\, 35000\, France
ATTACH;FMTTYPE=image/jpeg:https://www.mir-rennes.fr/wp-content/uploads/2025/04/E9-revolution-oeillets_montage-perso.jpg
ORGANIZER;CN="Association INTER+VALUE":MAILTO:interplusvalue@gmail.com
END:VEVENT
BEGIN:VEVENT
DTSTART;TZID=Europe/Paris:20250527T180000
DTEND;TZID=Europe/Paris:20250527T200000
DTSTAMP:20260421T154107
CREATED:20250418T053738Z
LAST-MODIFIED:20250418T054510Z
UID:2896-1748368800-1748376000@www.mir-rennes.fr
SUMMARY:#Rennes Fête l'Europe - Conférence/Débat : Paix en Europe : défis contemporains au regard du droit international et du droit de l’UE par la MIR\, le Mouvement de la Paix\, la Maison de l’Europe et Solidarité Bretagne Ukraine
DESCRIPTION:Dans un contexte international marqué par les guerres et les tensions croissantes\, cette conférence propose une réflexion sur les enjeux actuels de la paix à travers le prisme du droit. Quels sont les outils juridiques dont disposent l’Union européenne et la communauté internationale pour prévenir les conflits\, protéger les droits humains et garantir la sécurité collective ? \nDeux intervenants apporteront leur éclairage : Anne Hamonic\, Maître de conférences en Droit public à l’Université de Rennes 1\, spécialiste du Droit de l’Union européenne\, Alain Rouy\, vice-président du Bureau international de la paix\, l’une des plus anciennes organisations mondiales œuvrant pour la paix. La rencontre sera animée par Fabien Cazenave\, journaliste à Ouest-France\, et proposera un temps d’échange avec le public. \nUne occasion unique de mieux comprendre les leviers juridiques pour la paix et les limites actuelles de l’action européenne et internationale face aux crises contemporaines.
URL:https://www.mir-rennes.fr/evenement/rennes-fete-leurope-conference-debat-paix-en-europe-defis-contemporains-au-regard-du-droit-international-et-du-droit-de-lue-par-la-mir-le-mouvement-de-la-paix-la-maison-de-l/
LOCATION:Auditorium de la Maison Internationale de Rennes\, 7 Quai Chateaubriand\, Rennes\, 35000\, France
ATTACH;FMTTYPE=image/jpeg:https://www.mir-rennes.fr/wp-content/uploads/2025/04/pexels-marco-288924445-13153479-scaled.jpg
ORGANIZER;CN="Maison Internationale de Rennes":MAILTO:coopdec@mir-rennes.fr
END:VEVENT
BEGIN:VEVENT
DTSTART;TZID=Europe/Paris:20250528T100000
DTEND;TZID=Europe/Paris:20250528T190000
DTSTAMP:20260421T154107
CREATED:20250418T054118Z
LAST-MODIFIED:20250418T054118Z
UID:2898-1748426400-1748458800@www.mir-rennes.fr
SUMMARY:#Rennes Fête l'Europe - Stands d'informations & animations pédagogiques : Village Européen par les Jeunes Européens 35\, la MIR et la Maison de l'Europe
DESCRIPTION:Pour clore la Fête de l’Europe 2025\, le Village Européen s’installe au parc du Thabor. L’objectif : faire découvrir la richesse de la culture européenne\, ses valeurs et ses apports à travers un temps festif et pédagogique. Le matin\, des animations scolaires autour de la paix et de l’Europe seront proposées en coordination avec la Maison Internationale de Rennes (sur inscription). \nL’après-midi\, le Village s’ouvre à toutes et tous avec des stands\, animations et activités ludiques portés par les associations européennes locales. Un moment de rencontre\, de découverte et de convivialité\, gratuit et ouvert à toutes et tous !
URL:https://www.mir-rennes.fr/evenement/rennes-fete-leurope-stands-dinformations-animations-pedagogiques-village-europeen-par-les-jeunes-europeens-35-la-mir-et-la-maison-de-leurope/
LOCATION:Parc du Thabor\, Théâtre de verdure\, Rennes\, France
ATTACH;FMTTYPE=image/png:https://www.mir-rennes.fr/wp-content/uploads/2025/04/Village-Europeen-6.png
END:VEVENT
BEGIN:VEVENT
DTSTART;TZID=Europe/Paris:20250528T180000
DTEND;TZID=Europe/Paris:20250528T210000
DTSTAMP:20260421T154107
CREATED:20250514T081702Z
LAST-MODIFIED:20250514T081702Z
UID:2917-1748455200-1748466000@www.mir-rennes.fr
SUMMARY:Conférence/débat - Médias et extrême droite par ACRIMED
DESCRIPTION:
URL:https://www.mir-rennes.fr/evenement/conference-debat-medias-et-extreme-droite-par-acrimed/
LOCATION:Auditorium de la Maison Internationale de Rennes\, 7 Quai Chateaubriand\, Rennes\, 35000\, France
ATTACH;FMTTYPE=image/png:https://www.mir-rennes.fr/wp-content/uploads/2025/05/Acrimed-28-mai.png
END:VEVENT
BEGIN:VEVENT
DTSTART;TZID=Europe/Paris:20250529T100000
DTEND;TZID=Europe/Paris:20250530T170000
DTSTAMP:20260421T154107
CREATED:20250217T142804Z
LAST-MODIFIED:20250217T142840Z
UID:2755-1748512800-1748624400@www.mir-rennes.fr
SUMMARY:Atelier Gravure de Sceaux - Encres de Chine
DESCRIPTION:
URL:https://www.mir-rennes.fr/evenement/atelier-gravure-de-sceaux-encres-de-chine/
LOCATION:2ème étage – Salle Atlantique\, 7 Quai Chateaubriand\, Rennes\, 35000\, France
ATTACH;FMTTYPE=image/jpeg:https://www.mir-rennes.fr/wp-content/uploads/2025/02/Atelier-Wang-Yi_Affiche-web-29-30-mai-scaled.jpg
ORGANIZER;CN="Association Encres de Chine":MAILTO:encres-de-chine@orange.fr
END:VEVENT
END:VCALENDAR