BEGIN:VCALENDAR
VERSION:2.0
PRODID:-//Maison Internationale de Rennes - ECPv6.15.20//NONSGML v1.0//EN
CALSCALE:GREGORIAN
METHOD:PUBLISH
X-WR-CALNAME:Maison Internationale de Rennes
X-ORIGINAL-URL:https://www.mir-rennes.fr
X-WR-CALDESC:Évènements pour Maison Internationale de Rennes
REFRESH-INTERVAL;VALUE=DURATION:PT1H
X-Robots-Tag:noindex
X-PUBLISHED-TTL:PT1H
BEGIN:VTIMEZONE
TZID:Europe/Paris
BEGIN:DAYLIGHT
TZOFFSETFROM:+0100
TZOFFSETTO:+0200
TZNAME:CEST
DTSTART:20240331T010000
END:DAYLIGHT
BEGIN:STANDARD
TZOFFSETFROM:+0200
TZOFFSETTO:+0100
TZNAME:CET
DTSTART:20241027T010000
END:STANDARD
BEGIN:DAYLIGHT
TZOFFSETFROM:+0100
TZOFFSETTO:+0200
TZNAME:CEST
DTSTART:20250330T010000
END:DAYLIGHT
BEGIN:STANDARD
TZOFFSETFROM:+0200
TZOFFSETTO:+0100
TZNAME:CET
DTSTART:20251026T010000
END:STANDARD
BEGIN:DAYLIGHT
TZOFFSETFROM:+0100
TZOFFSETTO:+0200
TZNAME:CEST
DTSTART:20260329T010000
END:DAYLIGHT
BEGIN:STANDARD
TZOFFSETFROM:+0200
TZOFFSETTO:+0100
TZNAME:CET
DTSTART:20261025T010000
END:STANDARD
END:VTIMEZONE
BEGIN:VEVENT
DTSTART;TZID=Europe/Paris:20250526T180000
DTEND;TZID=Europe/Paris:20250526T210000
DTSTAMP:20260421T171223
CREATED:20250418T053346Z
LAST-MODIFIED:20250418T054722Z
UID:2894-1748282400-1748293200@www.mir-rennes.fr
SUMMARY:#Rennes Fête l’Europe - Projection/Echanges/  Concert : Liberté et démocratie en Europe par INTER+VALUE
DESCRIPTION:Souvenir en images et clin d’œil en musique à une révolution pacifique exemplaire\, la Révolution des œillets qui\, en avril 1974\, libérait le Portugal de la dictature et y ouvrait la voie à la démocratie\, la décolonisation et l’intégration européenne. Là-bas\, comme ailleurs en Europe\, quelle est la situation actuelle de la démocratie face au nouvel essor des mouvements de rejet ? \nProjection-débat autour du documentaire Des œillets pour la révolution (Arte\, 2024). \nTemps convivial et concert : Fado et autres musicalités du Portugal par Céline Costa et son groupe.
URL:https://www.mir-rennes.fr/evenement/rennes-fete-leurope-projection-echanges-concert-liberte-et-democratie-en-europe-par-intervalue/
LOCATION:Auditorium de la Maison Internationale de Rennes\, 7 Quai Chateaubriand\, Rennes\, 35000\, France
ATTACH;FMTTYPE=image/jpeg:https://www.mir-rennes.fr/wp-content/uploads/2025/04/E9-revolution-oeillets_montage-perso.jpg
ORGANIZER;CN="Association INTER+VALUE":MAILTO:interplusvalue@gmail.com
END:VEVENT
END:VCALENDAR