BEGIN:VCALENDAR
VERSION:2.0
PRODID:-//Maison Internationale de Rennes - ECPv6.15.20//NONSGML v1.0//EN
CALSCALE:GREGORIAN
METHOD:PUBLISH
X-ORIGINAL-URL:https://www.mir-rennes.fr
X-WR-CALDESC:Évènements pour Maison Internationale de Rennes
REFRESH-INTERVAL;VALUE=DURATION:PT1H
X-Robots-Tag:noindex
X-PUBLISHED-TTL:PT1H
BEGIN:VTIMEZONE
TZID:Europe/Paris
BEGIN:DAYLIGHT
TZOFFSETFROM:+0100
TZOFFSETTO:+0200
TZNAME:CEST
DTSTART:20240331T010000
END:DAYLIGHT
BEGIN:STANDARD
TZOFFSETFROM:+0200
TZOFFSETTO:+0100
TZNAME:CET
DTSTART:20241027T010000
END:STANDARD
BEGIN:DAYLIGHT
TZOFFSETFROM:+0100
TZOFFSETTO:+0200
TZNAME:CEST
DTSTART:20250330T010000
END:DAYLIGHT
BEGIN:STANDARD
TZOFFSETFROM:+0200
TZOFFSETTO:+0100
TZNAME:CET
DTSTART:20251026T010000
END:STANDARD
BEGIN:DAYLIGHT
TZOFFSETFROM:+0100
TZOFFSETTO:+0200
TZNAME:CEST
DTSTART:20260329T010000
END:DAYLIGHT
BEGIN:STANDARD
TZOFFSETFROM:+0200
TZOFFSETTO:+0100
TZNAME:CET
DTSTART:20261025T010000
END:STANDARD
END:VTIMEZONE
BEGIN:VEVENT
DTSTART;TZID=Europe/Paris:20250521T160000
DTEND;TZID=Europe/Paris:20250521T230000
DTSTAMP:20260421T165647
CREATED:20250418T052011Z
LAST-MODIFIED:20250418T052011Z
UID:2880-1747843200-1747868400@www.mir-rennes.fr
SUMMARY:#Rennes Fête l'Europe - Journée d’échanges interculturels : Pour une Europe accueillante par MATA\, Solidarité Roumanie 35 et Association Hellénique de Bretagne
DESCRIPTION:Cette journée a pour ambition de créer des temps forts partagés et des espaces de rencontre propices à l’échange interculturel. Née d’une dynamique citoyenne rennaise\, elle invite à découvrir la richesse des cultures présentes à Rennes et en Europe\, à travers une programmation artistique\, gustative et participative. En favorisant le dialogue et la reconnaissance mutuelle\, cette initiative contribue à la construction d’une identité culturelle commune\, fondée sur la diversité. \n16h : Exposition d’art postal\, marchés des saveurs et « arbre à palabres »\n18h30 : Courts métrages grecs et roumains sur les migrations\n20h30 : Dégustation de spécialités roumaines\, grecques et nigériennes + démonstration de danse grecque\n21h : Concert d’un ensemble de musique Kesmer « Flying Fish » et de 20 élèves saxophonistes soutenus par Solidarité Roumanie 35 puis du groupe Afro Beat Family
URL:https://www.mir-rennes.fr/evenement/rennes-fete-leurope-journee-dechanges-interculturels-pour-une-europe-accueillante-par-mata-solidarite-roumanie-35-et-association-hellenique-de-bretagne/
LOCATION:Maison de Quartier de Villejean\, 2 Rue de Bourgogne\, Rennes\, 35000\, France
ATTACH;FMTTYPE=image/jpeg:https://www.mir-rennes.fr/wp-content/uploads/2025/04/UMMY_Nikos-Avgoustidis_02.jpg
ORGANIZER;CN="MATA":MAILTO:mata.asso.france@gmail.com
END:VEVENT
END:VCALENDAR