BEGIN:VCALENDAR
VERSION:2.0
PRODID:-//Maison Internationale de Rennes - ECPv6.15.20//NONSGML v1.0//EN
CALSCALE:GREGORIAN
METHOD:PUBLISH
X-ORIGINAL-URL:https://www.mir-rennes.fr
X-WR-CALDESC:Évènements pour Maison Internationale de Rennes
REFRESH-INTERVAL;VALUE=DURATION:PT1H
X-Robots-Tag:noindex
X-PUBLISHED-TTL:PT1H
BEGIN:VTIMEZONE
TZID:Europe/Paris
BEGIN:DAYLIGHT
TZOFFSETFROM:+0100
TZOFFSETTO:+0200
TZNAME:CEST
DTSTART:20240331T010000
END:DAYLIGHT
BEGIN:STANDARD
TZOFFSETFROM:+0200
TZOFFSETTO:+0100
TZNAME:CET
DTSTART:20241027T010000
END:STANDARD
BEGIN:DAYLIGHT
TZOFFSETFROM:+0100
TZOFFSETTO:+0200
TZNAME:CEST
DTSTART:20250330T010000
END:DAYLIGHT
BEGIN:STANDARD
TZOFFSETFROM:+0200
TZOFFSETTO:+0100
TZNAME:CET
DTSTART:20251026T010000
END:STANDARD
BEGIN:DAYLIGHT
TZOFFSETFROM:+0100
TZOFFSETTO:+0200
TZNAME:CEST
DTSTART:20260329T010000
END:DAYLIGHT
BEGIN:STANDARD
TZOFFSETFROM:+0200
TZOFFSETTO:+0100
TZNAME:CET
DTSTART:20261025T010000
END:STANDARD
END:VTIMEZONE
BEGIN:VEVENT
DTSTART;TZID=Europe/Paris:20250514T183000
DTEND;TZID=Europe/Paris:20250514T203000
DTSTAMP:20260421T171358
CREATED:20250418T050710Z
LAST-MODIFIED:20250418T051154Z
UID:2862-1747247400-1747254600@www.mir-rennes.fr
SUMMARY:#Rennes Fête l'Europe - Concert/Conférence : Grands airs et petites histoires … L’épopée européenne de l’Opéra par Les Bretons vont à l'Opéra
DESCRIPTION:Panorama de l’histoire de l’opéra au XIXe et début XXe siècle à travers l’Europe. De l’Italie aux terres slaves en passant par la France et les terres germaniques\, venez découvrir les grandes évolutions\, les anecdotes méconnues et les grands compositeurs à travers des récits historiques et des moments chantés. Avec Julia Le Brun (pianiste et conférencière) et Marguerite Berger (soprano). \n  \nEntrée : 15€\nEtudiants/Adhérents : 10€
URL:https://www.mir-rennes.fr/evenement/rennes-fete-leurope-concert-conference-grands-airs-et-petites-histoires-lepopee-europeenne-de-lopera-par-les-bretons-vont-a-lopera/
LOCATION:Auditorium de la Maison Internationale de Rennes\, 7 Quai Chateaubriand\, Rennes\, 35000\, France
ATTACH;FMTTYPE=image/png:https://www.mir-rennes.fr/wp-content/uploads/2025/04/E2-Affiche-concert-Rennes.png
END:VEVENT
END:VCALENDAR