BEGIN:VCALENDAR
VERSION:2.0
PRODID:-//Maison Internationale de Rennes - ECPv6.15.20//NONSGML v1.0//EN
CALSCALE:GREGORIAN
METHOD:PUBLISH
X-ORIGINAL-URL:https://www.mir-rennes.fr
X-WR-CALDESC:Évènements pour Maison Internationale de Rennes
REFRESH-INTERVAL;VALUE=DURATION:PT1H
X-Robots-Tag:noindex
X-PUBLISHED-TTL:PT1H
BEGIN:VTIMEZONE
TZID:Europe/Paris
BEGIN:DAYLIGHT
TZOFFSETFROM:+0100
TZOFFSETTO:+0200
TZNAME:CEST
DTSTART:20240331T010000
END:DAYLIGHT
BEGIN:STANDARD
TZOFFSETFROM:+0200
TZOFFSETTO:+0100
TZNAME:CET
DTSTART:20241027T010000
END:STANDARD
BEGIN:DAYLIGHT
TZOFFSETFROM:+0100
TZOFFSETTO:+0200
TZNAME:CEST
DTSTART:20250330T010000
END:DAYLIGHT
BEGIN:STANDARD
TZOFFSETFROM:+0200
TZOFFSETTO:+0100
TZNAME:CET
DTSTART:20251026T010000
END:STANDARD
BEGIN:DAYLIGHT
TZOFFSETFROM:+0100
TZOFFSETTO:+0200
TZNAME:CEST
DTSTART:20260329T010000
END:DAYLIGHT
BEGIN:STANDARD
TZOFFSETFROM:+0200
TZOFFSETTO:+0100
TZNAME:CET
DTSTART:20261025T010000
END:STANDARD
END:VTIMEZONE
BEGIN:VEVENT
DTSTART;TZID=Europe/Paris:20250507T183000
DTEND;TZID=Europe/Paris:20250507T210000
DTSTAMP:20260421T171352
CREATED:20250304T090300Z
LAST-MODIFIED:20250304T090300Z
UID:2798-1746642600-1746651600@www.mir-rennes.fr
SUMMARY:Conférence - C.Barreault sur l’exposition « La Chine des Tang\, une dynastie cosmopolite (7e -10e siècle) ». par Encres de Chine
DESCRIPTION:Présentation \nL’association Encres de Chine invite Constance Barreault à présenter l’extraordinaire exposition qui a fermé ses portes au musée Guimet début mars\, sur la riche dynastie des Tang. Parmi les 207 œuvres prêtées par 32 institutions chinoises\, elle a choisi pour vous les œuvres les plus emblématiques capables de réjouir les yeux et l’esprit. \n« Nous entrerons dans l’esthétique qui accompagne la pensée des Tang grâce aux découvertes récentes d’objets retrouvés lors de fouilles liées à la construction du métro. Certains apportent des témoignages archéologiques de première importance\, confirmant des textes de l’époque dans des domaines très divers tels la dégustation du thé\, la cavalerie\, la présence d’étrangers ou le bouddhisme chan ». Constance Barreault \nPrix de l’entrée\nTarif normal : 12€\, réduit : 10€ (adhérents)\, enfants et étudiants: 8€.\nRéservation\nVous pouvez dès maintenant réserver vos places par mail sur encres-de-chine@orange.fr ou par téléphone au 06 07 86 36 08
URL:https://www.mir-rennes.fr/evenement/conference-c-barreault-sur-lexposition-la-chine-des-tang-une-dynastie-cosmopolite-7e-10e-siecle-par-encres-de-chine/
LOCATION:Auditorium de la Maison Internationale de Rennes\, 7 Quai Chateaubriand\, Rennes\, 35000\, France
ATTACH;FMTTYPE=image/jpeg:https://www.mir-rennes.fr/wp-content/uploads/2025/03/7-mai-Encres-de-Chine.jpg
ORGANIZER;CN="Association Encres de Chine":MAILTO:encres-de-chine@orange.fr
END:VEVENT
END:VCALENDAR