BEGIN:VCALENDAR
VERSION:2.0
PRODID:-//Maison Internationale de Rennes - ECPv6.15.20//NONSGML v1.0//EN
CALSCALE:GREGORIAN
METHOD:PUBLISH
X-WR-CALNAME:Maison Internationale de Rennes
X-ORIGINAL-URL:https://www.mir-rennes.fr
X-WR-CALDESC:Évènements pour Maison Internationale de Rennes
REFRESH-INTERVAL;VALUE=DURATION:PT1H
X-Robots-Tag:noindex
X-PUBLISHED-TTL:PT1H
BEGIN:VTIMEZONE
TZID:Europe/Paris
BEGIN:DAYLIGHT
TZOFFSETFROM:+0100
TZOFFSETTO:+0200
TZNAME:CEST
DTSTART:20240331T010000
END:DAYLIGHT
BEGIN:STANDARD
TZOFFSETFROM:+0200
TZOFFSETTO:+0100
TZNAME:CET
DTSTART:20241027T010000
END:STANDARD
BEGIN:DAYLIGHT
TZOFFSETFROM:+0100
TZOFFSETTO:+0200
TZNAME:CEST
DTSTART:20250330T010000
END:DAYLIGHT
BEGIN:STANDARD
TZOFFSETFROM:+0200
TZOFFSETTO:+0100
TZNAME:CET
DTSTART:20251026T010000
END:STANDARD
BEGIN:DAYLIGHT
TZOFFSETFROM:+0100
TZOFFSETTO:+0200
TZNAME:CEST
DTSTART:20260329T010000
END:DAYLIGHT
BEGIN:STANDARD
TZOFFSETFROM:+0200
TZOFFSETTO:+0100
TZNAME:CET
DTSTART:20261025T010000
END:STANDARD
END:VTIMEZONE
BEGIN:VEVENT
DTSTART;TZID=Europe/Paris:20250429T143000
DTEND;TZID=Europe/Paris:20250429T160000
DTSTAMP:20260421T154053
CREATED:20250320T150115Z
LAST-MODIFIED:20250320T150204Z
UID:2842-1745937000-1745942400@www.mir-rennes.fr
SUMMARY:#Rennes Fête l'Europe - 4eme rencontre
DESCRIPTION:Rendez-vous le mardi 29 avril de 14h30 à 16h dans les locaux de la MIR afin de poursuivre la co-construction de notre programme Rennes fête l’Europe.
URL:https://www.mir-rennes.fr/evenement/rennes-fete-leurope-4eme-rencontre/
LOCATION:2ème étage – Salle Atlantique\, 7 Quai Chateaubriand\, Rennes\, 35000\, France
ATTACH;FMTTYPE=image/png:https://www.mir-rennes.fr/wp-content/uploads/2025/03/Publication-Instagram-1-080x-1350-3.png
ORGANIZER;CN="Maison Internationale de Rennes":MAILTO:coopdec@mir-rennes.fr
END:VEVENT
END:VCALENDAR