BEGIN:VCALENDAR
VERSION:2.0
PRODID:-//Maison Internationale de Rennes - ECPv6.15.20//NONSGML v1.0//EN
CALSCALE:GREGORIAN
METHOD:PUBLISH
X-ORIGINAL-URL:https://www.mir-rennes.fr
X-WR-CALDESC:Évènements pour Maison Internationale de Rennes
REFRESH-INTERVAL;VALUE=DURATION:PT1H
X-Robots-Tag:noindex
X-PUBLISHED-TTL:PT1H
BEGIN:VTIMEZONE
TZID:Europe/Paris
BEGIN:DAYLIGHT
TZOFFSETFROM:+0100
TZOFFSETTO:+0200
TZNAME:CEST
DTSTART:20240331T010000
END:DAYLIGHT
BEGIN:STANDARD
TZOFFSETFROM:+0200
TZOFFSETTO:+0100
TZNAME:CET
DTSTART:20241027T010000
END:STANDARD
BEGIN:DAYLIGHT
TZOFFSETFROM:+0100
TZOFFSETTO:+0200
TZNAME:CEST
DTSTART:20250330T010000
END:DAYLIGHT
BEGIN:STANDARD
TZOFFSETFROM:+0200
TZOFFSETTO:+0100
TZNAME:CET
DTSTART:20251026T010000
END:STANDARD
BEGIN:DAYLIGHT
TZOFFSETFROM:+0100
TZOFFSETTO:+0200
TZNAME:CEST
DTSTART:20260329T010000
END:DAYLIGHT
BEGIN:STANDARD
TZOFFSETFROM:+0200
TZOFFSETTO:+0100
TZNAME:CET
DTSTART:20261025T010000
END:STANDARD
END:VTIMEZONE
BEGIN:VEVENT
DTSTART;TZID=Europe/Paris:20250417T183000
DTEND;TZID=Europe/Paris:20250417T203000
DTSTAMP:20260421T154943
CREATED:20250320T144204Z
LAST-MODIFIED:20250320T144204Z
UID:2840-1744914600-1744921800@www.mir-rennes.fr
SUMMARY:Rencontre - avec Danièle Linhart autour de son article "Un sens du travail\, mais lequel ?" par AMD
DESCRIPTION:(c) Juraj Florek. – « Angyalföld II »\, 2019www.jurajflorek.com \nLe jeudi 17 avril\, à 18 h 45\, à l’auditorium de la Maison internationale de Rennes\, rencontre avec Danièle Linhart autour de son article « Un sens du travail\, mais lequel ? » (Le Monde diplomatique\, décembre 2024) \nSe lever\, avaler un café\, s’engouffrer dans une voiture\, un métro ou un train. Embaucher\, faire sa journée\, rentrer\, recommencer… Pourquoi ? Pour qui ? Et si le désarroi que suscite le travail traduisait en réalité un espoir ? Celui d’une activité humaine émancipatrice.
URL:https://www.mir-rennes.fr/evenement/rencontre-avec-daniele-linhart-autour-de-son-article-un-sens-du-travail-mais-lequel-par-amd/
LOCATION:Auditorium de la Maison Internationale de Rennes\, 7 Quai Chateaubriand\, Rennes\, 35000\, France
ATTACH;FMTTYPE=image/jpeg:https://www.mir-rennes.fr/wp-content/uploads/2025/03/AMD-17-avril-.jpg
ORGANIZER;CN="Les Amis du Monde Diplomatique":MAILTO:amd.rennes@gmail.com
END:VEVENT
END:VCALENDAR