BEGIN:VCALENDAR
VERSION:2.0
PRODID:-//Maison Internationale de Rennes - ECPv6.15.20//NONSGML v1.0//EN
CALSCALE:GREGORIAN
METHOD:PUBLISH
X-WR-CALNAME:Maison Internationale de Rennes
X-ORIGINAL-URL:https://www.mir-rennes.fr
X-WR-CALDESC:Évènements pour Maison Internationale de Rennes
REFRESH-INTERVAL;VALUE=DURATION:PT1H
X-Robots-Tag:noindex
X-PUBLISHED-TTL:PT1H
BEGIN:VTIMEZONE
TZID:Europe/Paris
BEGIN:DAYLIGHT
TZOFFSETFROM:+0100
TZOFFSETTO:+0200
TZNAME:CEST
DTSTART:20240331T010000
END:DAYLIGHT
BEGIN:STANDARD
TZOFFSETFROM:+0200
TZOFFSETTO:+0100
TZNAME:CET
DTSTART:20241027T010000
END:STANDARD
BEGIN:DAYLIGHT
TZOFFSETFROM:+0100
TZOFFSETTO:+0200
TZNAME:CEST
DTSTART:20250330T010000
END:DAYLIGHT
BEGIN:STANDARD
TZOFFSETFROM:+0200
TZOFFSETTO:+0100
TZNAME:CET
DTSTART:20251026T010000
END:STANDARD
BEGIN:DAYLIGHT
TZOFFSETFROM:+0100
TZOFFSETTO:+0200
TZNAME:CEST
DTSTART:20260329T010000
END:DAYLIGHT
BEGIN:STANDARD
TZOFFSETFROM:+0200
TZOFFSETTO:+0100
TZNAME:CET
DTSTART:20261025T010000
END:STANDARD
END:VTIMEZONE
BEGIN:VEVENT
DTSTART;TZID=Europe/Paris:20250408T140000
DTEND;TZID=Europe/Paris:20250410T180000
DTSTAMP:20260421T160341
CREATED:20250324T134157Z
LAST-MODIFIED:20250324T134157Z
UID:2847-1744120800-1744308000@www.mir-rennes.fr
SUMMARY:Exposition - "Ils ont vaincu la barbarie nazie" par l'ARAC
DESCRIPTION:
URL:https://www.mir-rennes.fr/evenement/exposition-ils-ont-vaincu-la-barbarie-nazie-par-larac/
LOCATION:Galerie de la Maison Internationale de Rennes\, 7 Quai Chateaubriand\, Rennes\, 35000\, France
ATTACH;FMTTYPE=image/png:https://www.mir-rennes.fr/wp-content/uploads/2025/03/MIR-Expo-ARAC-04.2024-Document-Microsoft-Word.png
ORGANIZER;CN="ARAC 35":MAILTO:araciv@orange.fr
END:VEVENT
BEGIN:VEVENT
DTSTART;TZID=Europe/Paris:20250409T183000
DTEND;TZID=Europe/Paris:20250409T203000
DTSTAMP:20260421T160341
CREATED:20250313T133553Z
LAST-MODIFIED:20250324T144129Z
UID:2816-1744223400-1744230600@www.mir-rennes.fr
SUMMARY:Conférence - L'Algérie face à ses défis par l'association de jumelage Rennes/Sétif
DESCRIPTION:
URL:https://www.mir-rennes.fr/evenement/conference-lalgerie-face-a-ses-defis-par-lassociation-de-jumelage-rennes-setif/
LOCATION:Auditorium de la Maison Internationale de Rennes\, 7 Quai Chateaubriand\, Rennes\, 35000\, France
ATTACH;FMTTYPE=image/png:https://www.mir-rennes.fr/wp-content/uploads/2025/03/Rennes-setif-8-avril.png
END:VEVENT
END:VCALENDAR