BEGIN:VCALENDAR
VERSION:2.0
PRODID:-//Maison Internationale de Rennes - ECPv6.15.20//NONSGML v1.0//EN
CALSCALE:GREGORIAN
METHOD:PUBLISH
X-WR-CALNAME:Maison Internationale de Rennes
X-ORIGINAL-URL:https://www.mir-rennes.fr
X-WR-CALDESC:Évènements pour Maison Internationale de Rennes
REFRESH-INTERVAL;VALUE=DURATION:PT1H
X-Robots-Tag:noindex
X-PUBLISHED-TTL:PT1H
BEGIN:VTIMEZONE
TZID:Europe/Paris
BEGIN:DAYLIGHT
TZOFFSETFROM:+0100
TZOFFSETTO:+0200
TZNAME:CEST
DTSTART:20240331T010000
END:DAYLIGHT
BEGIN:STANDARD
TZOFFSETFROM:+0200
TZOFFSETTO:+0100
TZNAME:CET
DTSTART:20241027T010000
END:STANDARD
BEGIN:DAYLIGHT
TZOFFSETFROM:+0100
TZOFFSETTO:+0200
TZNAME:CEST
DTSTART:20250330T010000
END:DAYLIGHT
BEGIN:STANDARD
TZOFFSETFROM:+0200
TZOFFSETTO:+0100
TZNAME:CET
DTSTART:20251026T010000
END:STANDARD
BEGIN:DAYLIGHT
TZOFFSETFROM:+0100
TZOFFSETTO:+0200
TZNAME:CEST
DTSTART:20260329T010000
END:DAYLIGHT
BEGIN:STANDARD
TZOFFSETFROM:+0200
TZOFFSETTO:+0100
TZNAME:CET
DTSTART:20261025T010000
END:STANDARD
END:VTIMEZONE
BEGIN:VEVENT
DTSTART;TZID=Europe/Paris:20250224T160000
DTEND;TZID=Europe/Paris:20250307T190000
DTSTAMP:20260421T131806
CREATED:20250224T132457Z
LAST-MODIFIED:20250224T132457Z
UID:2781-1740412800-1741374000@www.mir-rennes.fr
SUMMARY:Exposition - "Sécurité Inquiétante" par Solidarité Bretagne Ukraine
DESCRIPTION:Vernissage – 24 février à 18h00\n Horaires d’ouverture:\n– Lundi – vendredi: 16h00 – 19h00\n– Week-end: 15h00 – 19h00\nGalerie Maison Internationale de Rennes\n⠀\nCette exposition réunit les œuvres de deux artistes ukrainiennes installées à Rennes après le début de l’invasion à grande échelle en 2022. À première vue\, leurs œuvres peuvent paraître insouciantes\, mais si vous regardez de plus près\, vous pouvez sentir l’anxiété cachée des artistes.\n⠀\nL’art comme reflet de l’expérience de la guerre.\nLes artistes transmettent leurs propres expériences et celles des Ukrainiens contraints de quitter leur pays à cause de la guerre. Ceux qui ont survécu aux bombardements et à la brutalité des soldats russes souffrent encore du stress post-traumatique.\n⠀\nCe que vous découvrirez?\n– La représentation d’une nouvelle vie en exil forcé.\n– Des peintures sur la vie à l’arrière en Ukraine occidentale\, où la sécurité relative ne fait pas disparaître le sentiment constant de menace.
URL:https://www.mir-rennes.fr/evenement/exposition-securite-inquietante-par-solidarite-bretagne-ukraine/
LOCATION:Galerie de la Maison Internationale de Rennes\, 7 Quai Chateaubriand\, Rennes\, 35000\, France
ATTACH;FMTTYPE=image/jpeg:https://www.mir-rennes.fr/wp-content/uploads/2025/02/expo-solidarite-bretagne-ukraine.jpg
ORGANIZER;CN="Solidarit%C3%A9 Bretagne Ukraine":MAILTO:solidarite.ukraine.bretagne@gmail.com
END:VEVENT
BEGIN:VEVENT
DTSTART;TZID=Europe/Paris:20250306T200000
DTEND;TZID=Europe/Paris:20250306T220000
DTSTAMP:20260421T131806
CREATED:20250227T113511Z
LAST-MODIFIED:20250227T113545Z
UID:2794-1741291200-1741298400@www.mir-rennes.fr
SUMMARY:Rencontre - Agnès Leavllois "Le livre noir de Gaza" par le Mouvement de la Paix
DESCRIPTION:
URL:https://www.mir-rennes.fr/evenement/rencontre-agnes-leavllois-le-livre-noir-de-gaza-par-le-mouvement-de-la-paix/
LOCATION:Auditorium de la Maison Internationale de Rennes\, 7 Quai Chateaubriand\, Rennes\, 35000\, France
ATTACH;FMTTYPE=image/png:https://www.mir-rennes.fr/wp-content/uploads/2025/02/A5-SIMPLE-6-MARS-2025def-mouvement-de-la-paix.png
END:VEVENT
BEGIN:VEVENT
DTSTART;TZID=Europe/Paris:20250308T100000
DTEND;TZID=Europe/Paris:20250321T180000
DTSTAMP:20260421T131806
CREATED:20250214T081229Z
LAST-MODIFIED:20250227T111243Z
UID:2638-1741428000-1742580000@www.mir-rennes.fr
SUMMARY:#JIDDF - Exposition "Il n'y a pas de rose sans épines" par Diapositive
DESCRIPTION:Elles sont huit femmes à avoir fui leur pays dans l’espoir de trouver refuge et sécurité en France. Aujourd’hui accompagnées par l’HUDA 35 Coallia dans leur procédure de demande d’asile et hébergées dans la métropole rennaise\, elles sont à l’abri provisoirement. Pour autant cette période d’attente pendant laquelle elles n’ont pas le droit de travailler voit souvent émerger des problèmes de santé mentale qui les fragilisent davantage. C’est dans ce cadre là que les ateliers hebdomadaires d’expression par la photographie ont été initiés. Leur accorder un temps hors de leur quotidien pour leur permettre de se retrouver en confiance entre femmes. Prendre des photos qui évoquent un vécu\, une émotion pour ensuite trouver les mots et partager avec le groupe. S’en sentir libérée\, moins seule et reprendre tout doucement confiance. Pour cette deuxième édition\, nous leur avons proposé des discussions autour des Droits des femmes\, ce qu’ils veulent dire et comment ils résonnent avec leur propre histoire. Le travail qui en résulte est une série de photos prises dans un quotidien banal mais dont les textes apportent une intensité telle qu’ils nous laissent KO à chaque lecture. \nExposition photographique issue d’un atelier d’expression par la photographie avec\nun groupe de femmes en demande d’asile .\n– Une vingtaine de photographies en 40x50cm prises par leur soin\, accompagnées de verbatims\n– 9 portraits d’elles
URL:https://www.mir-rennes.fr/evenement/jiddf-exposition-par-diapositive/
LOCATION:Galerie de la Maison Internationale de Rennes\, 7 Quai Chateaubriand\, Rennes\, 35000\, France
ATTACH;FMTTYPE=image/jpeg:https://www.mir-rennes.fr/wp-content/uploads/2025/02/expo-coallia-mars2025-A3-flash_page-0001.jpg
END:VEVENT
BEGIN:VEVENT
DTSTART;TZID=Europe/Paris:20250308T180000
DTEND;TZID=Europe/Paris:20250308T200000
DTSTAMP:20260421T131806
CREATED:20250214T080850Z
LAST-MODIFIED:20250220T084705Z
UID:2637-1741456800-1741464000@www.mir-rennes.fr
SUMMARY:#JIDDF - Conférence "Femmes\, vie\, liberté" par l'AFIB
DESCRIPTION:Dans le cadre de la Journée Internationale des Droits des Femmes 2025\, l’Association Franco-Iranienne de Bretagne organise sa conférence annuelle : \n« Femme\, Vie\, Liberté » : l’écho d’une émancipation dans le cinéma indépendant iranien\nConférencière : Asal Bagheri (Enseignante-chercheuse (Cergy Paris Université)\,sémiologue et spécialiste du cinéma iranien) \nLe 08 mars 2025 à la Maison Internationale de Rennes\nCette conférence a pour objet l’évolution de la représentation de la femme au sein du cinéma iranien indépendant postrévolutionnaire. Son ambition est de montrer\, à travers quelques exemples significatifs\, comment le cinéma iranien notamment via la représentation des femmes a pu mettre en place un espace de résistance et de contestation. Il tente de mettre au jour les prémices et les racines du mouvement de contestation actuelle Femme\, Vie\, Liberté\, apparus\ndans les films iraniens depuis les années 1980.
URL:https://www.mir-rennes.fr/evenement/jiddf-conference-femmes-vie-liberte-par-lafib/
LOCATION:Auditorium de la Maison Internationale de Rennes\, 7 Quai Chateaubriand\, Rennes\, 35000\, France
ATTACH;FMTTYPE=image/png:https://www.mir-rennes.fr/wp-content/uploads/2025/02/Affiche-JIDF2025-VF-AFIB-8-mars-1.png
ORGANIZER;CN="Association Franco-Iranienne de Bretagne":MAILTO:afib.rennes@yahoo.fr
END:VEVENT
BEGIN:VEVENT
DTSTART;TZID=Europe/Paris:20250314T200000
DTEND;TZID=Europe/Paris:20250314T213000
DTSTAMP:20260421T131806
CREATED:20250306T115033Z
LAST-MODIFIED:20250306T115033Z
UID:2803-1741982400-1741987800@www.mir-rennes.fr
SUMMARY:Concert - "Voix de l'Ukraine" par Solidarité Bretagne Ukraine
DESCRIPTION:La musique fait partie de nos vies depuis l’enfance. Nous entendons les premières mélodies de berceuses de nos mères. Nous grandissons et découvrons de nouveaux genres\, styles et penchants de l’art musical. Certains restent auditeurs\, et certains décident de lier leurs vies à la musique. \nCela nous donne de la force\, nous inspire\, nous aide dans les moments difficiles et nous unit. C’est ainsi qu’est né le duo musical international de la chanteuse d’opéra Ievgeniia Gintovt et du pianiste français Jean-François Pinel. Ensemble\, ils interprètent des œuvres de compositeurs ukrainiens classiques et modernes. \nIevgeniia et Jean-François vous feront découvrir un nouveau monde coloré et riche de la musique ukrainienne. Nous vous invitons à rejoindre ce voyage magique. \n 
URL:https://www.mir-rennes.fr/evenement/concert-voix-de-lukraine-par-solidarite-bretagne-ukraine/
LOCATION:Accueil de la Maison Internationale de Rennes\, 7 Quai Chateaubriand\, Rennes\, France
ATTACH;FMTTYPE=image/jpeg:https://www.mir-rennes.fr/wp-content/uploads/2025/03/Affiche-14-03-25-Solidarite-Bretagne-Ukraine.jpg
ORGANIZER;CN="Solidarit%C3%A9 Bretagne Ukraine":MAILTO:solidarite.ukraine.bretagne@gmail.com
END:VEVENT
BEGIN:VEVENT
DTSTART;TZID=Europe/Paris:20250315T180000
DTEND;TZID=Europe/Paris:20250315T210000
DTSTAMP:20260421T131806
CREATED:20250214T081926Z
LAST-MODIFIED:20250303T152119Z
UID:2639-1742061600-1742072400@www.mir-rennes.fr
SUMMARY:#JIDDF - Conférence "L'impact de la prison sur les détenues politiques kurdes en turquie" par AKB
DESCRIPTION:Dans le cadre de la Journée Internationale des Droits des Femmes : \nAMITIÉS KURDES DE BRETAGNE ET ZIN 35\, EN PARTENARIAT AVEC AMARA\nC’est une Histoire commune a beaucoup de militantes et de familles de militant-e-s kurdes que de séjourner au moins une fois en prison quand on vie en Turquie. Comment se passe la réintégration dans la société\, pour les femmes engagées politiquement mais aussi celles qui ne le sont pas\, les conditions d’incarcérations et l’accès aux soins\, comment s’est organisée la résistance ?\nNous aborderons toutes ces questions grâce aux témoignages de Mizgin Çiçek\, Sara Aktaş \, suivi d’un concert de Sevda et d’un pot kurdo/breton pour la rupture du jeûne.
URL:https://www.mir-rennes.fr/evenement/jiddf-conference-limpact-de-la-prison-sur-les-detenues-politiques-kurdes-en-turquie-par-akb/
LOCATION:Auditorium de la Maison Internationale de Rennes\, 7 Quai Chateaubriand\, Rennes\, 35000\, France
ATTACH;FMTTYPE=image/png:https://www.mir-rennes.fr/wp-content/uploads/2025/02/affiche-15-mars.png
END:VEVENT
BEGIN:VEVENT
DTSTART;TZID=Europe/Paris:20250316T170000
DTEND;TZID=Europe/Paris:20250316T190000
DTSTAMP:20260421T131806
CREATED:20250214T082618Z
LAST-MODIFIED:20250307T104913Z
UID:2640-1742144400-1742151600@www.mir-rennes.fr
SUMMARY:#JIDDF - Conférence "Rêves et cris de femmes Afghanes" par le Mouvement de la Paix
DESCRIPTION:Dans le cadre de la Journée Internationale des Droits des Femmes : \n« Rêves et cris de femmes afghanes… » \nNous reviendrons avec Nasrine Nabiyar\, présidente de l’association Malalay-Afghanistan\, sur les évolutions des inégalités au fil de l’histoire de l’Afghanistan. Nous échangerons avec celle qui se bat pour l’éducation des filles en Afghanistan et qui écoute les femmes afghanes depuis plus de 50 ans.
URL:https://www.mir-rennes.fr/evenement/jiddf-projection-debat-reves-de-femmes-afghanes-par-le-mouvement-de-la-paix/
LOCATION:Auditorium de la Maison Internationale de Rennes\, 7 Quai Chateaubriand\, Rennes\, 35000\, France
ATTACH;FMTTYPE=image/jpeg:https://www.mir-rennes.fr/wp-content/uploads/2025/02/Mouvement-de-la-paix-scaled.jpeg
END:VEVENT
BEGIN:VEVENT
DTSTART;TZID=Europe/Paris:20250318T143000
DTEND;TZID=Europe/Paris:20250318T160000
DTSTAMP:20260421T131806
CREATED:20250226T113129Z
LAST-MODIFIED:20250226T113129Z
UID:2790-1742308200-1742313600@www.mir-rennes.fr
SUMMARY:#Rennes fête l’Europe – 3eme rencontre
DESCRIPTION:
URL:https://www.mir-rennes.fr/evenement/rennes-fete-leurope-3eme-rencontre/
LOCATION:2ème étage – Salle Méditerrannée\, 7 Quai Chateaubriand\, Rennes\, 35000\, France
ATTACH;FMTTYPE=image/png:https://www.mir-rennes.fr/wp-content/uploads/2025/02/Publication-Instagram-1-080x-1350-3.png
ORGANIZER;CN="Maison Internationale de Rennes":MAILTO:coopdec@mir-rennes.fr
END:VEVENT
BEGIN:VEVENT
DTSTART;TZID=Europe/Paris:20250318T180000
DTEND;TZID=Europe/Paris:20250318T210000
DTSTAMP:20260421T131806
CREATED:20250306T114452Z
LAST-MODIFIED:20250306T114452Z
UID:2641-1742320800-1742331600@www.mir-rennes.fr
SUMMARY:#JIDDF - Projection/Débat "La danse des daronnes" par Zéro de Conduite
DESCRIPTION:Dans le cadre de la Journée Internationale des Droits Des Femmes : \nL’évènement ‘’La danse des daronnes’’ c’est la projection de deux films rennais portant sur des femmes élevant seules leurs enfants et le répit parental. Suite aux projections\, un échange avec le public est envisagé en présence des réalisatrices et des intervenantes. \nDanse à Maurepas de Lucie THIERRY\n« Porté par l’Association Keur Eskemm le projet Danse à Maurepas a rassemblé dix femmes\, au printemps 2023\, autour d’ateliers d’écriture et de danse\, tandis que leurs enfants étaient gardés. Pensé comme un espace d’échange et de liberté\, le projet a permis aux jeunes femmes de se rencontrer à travers l’expression artistique. Le court métrage « Danse à Maurepas » raconte cette aventure collective\, où les mouvements et les mots tissent des liens et révèlent la force du collectif. » \nLe Solo des Daronnes est un film participatif réalisé par l’association Zéro De Conduite en 2024 dans les quartiers de Bréquigny et de Maurepas à Rennes. À travers les témoignages de femmes élevant seules leurs enfants\, le film met en lumière leur parcours\, où chaque expérience difficile se transforme en force et en résilience. Le film raconte la détermination de ces femmes à offrir un avenir meilleur à leurs enfants\, tout en affirmant leur place dans la société.
URL:https://www.mir-rennes.fr/evenement/jiddf-projection-debat-la-danse-des-daronnes-par-zero-de-conduite/
LOCATION:Auditorium de la Maison Internationale de Rennes\, 7 Quai Chateaubriand\, Rennes\, 35000\, France
ATTACH;FMTTYPE=image/png:https://www.mir-rennes.fr/wp-content/uploads/2025/02/AfficheA3-PROJS-MARS-Zero-de-conduite.png
END:VEVENT
BEGIN:VEVENT
DTSTART;TZID=Europe/Paris:20250320T190000
DTEND;TZID=Europe/Paris:20250320T220000
DTSTAMP:20260421T131806
CREATED:20250214T084757Z
LAST-MODIFIED:20250220T084611Z
UID:2644-1742497200-1742508000@www.mir-rennes.fr
SUMMARY:#JIDDF - Conférence gesticulée "Histoire d'un secret de polichinelle" par l'Ordre des Avocats et le Planning Familial
DESCRIPTION:Dans le cadre de la Journée Internationale des Droits des Femmes : \nDans le cadre des 50 ans de la loi Veil qui autorisa l’interruption volontaire de grossesse en France en 1975\, les associations du Planning Familial 35\, Histoire du Féminisme à Rennes et le Barreau de Rennes s’associent pour accueillir la conférence gesticulée « Histoire d’un secret de Polichinelle\, lever avec joie\, le tabou de l’avortement » présentée par Jeanne Aymard. Pourquoi l’avortement est-il un tabou ? Pourquoi l’appropriation de la méthode par aspiration demeure-t-elle confidentielle ? Au nom de quels enjeux politiques les personnes ayant recours à des IVG sont-elles maintenues dans la culpabilité\, la honte\, la solitude et le silence ? Jeanne Aymard propose avec humour\, à travers son expérience et des témoignages sonores\, d’explorer ces questions et de déconstruire les idées reçues sur l’IVG. Elle sera suivie d’un moment de convivialité autour d’un buffet.
URL:https://www.mir-rennes.fr/evenement/jiddf-conference-gesticulee-histoire-dun-secret-de-polichinelle-par-lordre-des-avocats-et-le-planning-familial/
LOCATION:Auditorium de la Maison Internationale de Rennes\, 7 Quai Chateaubriand\, Rennes\, 35000\, France
ATTACH;FMTTYPE=image/jpeg:https://www.mir-rennes.fr/wp-content/uploads/2025/02/Affiche_planning-familial-20-mars-scaled.jpg
END:VEVENT
BEGIN:VEVENT
DTSTART;TZID=Europe/Paris:20250322T080000
DTEND;TZID=Europe/Paris:20250322T170000
DTSTAMP:20260421T131806
CREATED:20250304T171942Z
LAST-MODIFIED:20250312T083454Z
UID:2800-1742630400-1742662800@www.mir-rennes.fr
SUMMARY:Projection - INTER+CLaC : film italien « GLORIA ! » (2024) par INTER+VALUE
DESCRIPTION:De 13h à 15h : déjeuner partagé italien en mode « auberge espagnole » (chacun apporte un plat à partager avec le groupe)\nDe 15h à 17h : projection du film « GLORIA ! » (2024)\nDe 17h à 18h : échanges-débat\nÀ partir de 18h : apéro italien
URL:https://www.mir-rennes.fr/evenement/projection-interclac-film-italien-gloria-2024-par-intervalue/
LOCATION:Auditorium de la Maison Internationale de Rennes\, 7 Quai Chateaubriand\, Rennes\, 35000\, France
ATTACH;FMTTYPE=image/png:https://www.mir-rennes.fr/wp-content/uploads/2025/03/IV_Printonale_250322_affiche_v2.png
ORGANIZER;CN="Association INTER+VALUE":MAILTO:interplusvalue@gmail.com
END:VEVENT
BEGIN:VEVENT
DTSTART;TZID=Europe/Paris:20250323T150000
DTEND;TZID=Europe/Paris:20250323T170000
DTSTAMP:20260421T131806
CREATED:20250217T135558Z
LAST-MODIFIED:20250217T135558Z
UID:2752-1742742000-1742749200@www.mir-rennes.fr
SUMMARY:Conférence - "Rendre humanité et dignité aux malades mentaux" - Bana du Bénin
DESCRIPTION:
URL:https://www.mir-rennes.fr/evenement/conference-rendre-humanite-et-dignite-aux-malades-mentaux-bana-du-benin/
LOCATION:Auditorium de la Maison Internationale de Rennes\, 7 Quai Chateaubriand\, Rennes\, 35000\, France
ATTACH;FMTTYPE=image/jpeg:https://www.mir-rennes.fr/wp-content/uploads/2025/02/Bana-du-Benin-23mars_page-0001.jpg
END:VEVENT
BEGIN:VEVENT
DTSTART;TZID=Europe/Paris:20250324T120000
DTEND;TZID=Europe/Paris:20250328T180000
DTSTAMP:20260421T131806
CREATED:20250218T094240Z
LAST-MODIFIED:20250218T101027Z
UID:2759-1742817600-1743184800@www.mir-rennes.fr
SUMMARY:Exposition - Kokeshis par Shimai Toshi Sendaï
DESCRIPTION:« Les Kokeshis sont des poupées traditionnelles japonaises\, elles sont originaires du TOHOKU\, la région de Sendai. D’abord fabriquées comme jouets pour les enfants\, elles sont devenues des symboles d’un art\, d’une région. C’est devenu le cadeau typique des personnes de passage dans le TOHOKU\, au même titre que le fameux Bol breton style Quimper avec Prénom qui se vend partout en Bretagne. \nAu cours du dernier Roazhon Japan en mars 2024 à Rennes\, notre association SHIMAI TOSHI SENDAI a fait la connaissance de Mme REBIFFE Amandine\, passionnée par les Kokeshis. Ensemble\, nous avons élaboré ce projet pour présenter les Kokeshis à la MIR (Maison Internationale de Rennes)\, du 24 au 28 mars 2025. \nExposition ->\nMme REBIFFE  possède environ 800 Kokeshis\, de tous les styles. En présentant certaines de ses pièces les plus emblématiques\, elle nous fait voyager dans le TOHOKU\, la Région de Sendai\, en traversant les différentes époques qui ont marqué l’histoire de ces poupées traditionnelles. » \nLieu : Espace Pierre Jaffry (Au fond de la cour de la MIR/Institut Franco Américain) \nHoraires : \n\nDu lundi au jeudi : 12h -18h\nLe vendredi : 12h – 15h.\n\nLa conférence/documentaire/vernisssage : \n\nMercredi 26 mars de 18h à 20h\nLieu : Auditorium de la MIR
URL:https://www.mir-rennes.fr/evenement/exposition-kekeshis-par-shimai-toshi-sendai/
LOCATION:Galerie de la Maison Internationale de Rennes\, 7 Quai Chateaubriand\, Rennes\, 35000\, France
ATTACH;FMTTYPE=image/webp:https://www.mir-rennes.fr/wp-content/uploads/2025/02/rennes-sendai-24-28-mars.webp
ORGANIZER;CN="Association Shimai Toshi Senda%C3%AF":MAILTO:jumelage.rensendai@laposte.net
END:VEVENT
BEGIN:VEVENT
DTSTART;TZID=Europe/Paris:20250326T180000
DTEND;TZID=Europe/Paris:20250326T200000
DTSTAMP:20260421T131806
CREATED:20250218T094539Z
LAST-MODIFIED:20250218T094539Z
UID:2761-1743012000-1743019200@www.mir-rennes.fr
SUMMARY:Vernissage exposition Kokeshis - Shimai Toshi Sendaï
DESCRIPTION:Documentaire/Conférence/Vernissage ->\nA l’automne 2024\, notre équipe de réalisateurs a rencontré Mr HIRAGA\, fabricant de Kokeshis dont l’atelier se situe juste à côté du Ryokan de Sakunami Onsen\, où nous logions avec toute la délégation rennaise. Associé dès le début à notre projet\, Mr HIRAGA a accepté d’être filmé dans son Atelier\, pendant la fabrication d’une Kokeshi. C’est ce documentaire qui vous sera projeté\, en avant-première\, en introduction de la conférence de Mme REBIFFE Mercredi 26 Mars à 18h. Ensuite\, nous procéderons au Vernissage de l’exposition\, en présence des associations japonaises de Rennes\, ainsi que tous les partenaires du projet Kokeshis. \nExposition ->\nMme REBIFFE  possède environ 800 Kokeshis\, de tous les styles. En présentant certaines de ses pièces les plus emblématiques\, elle nous fait voyager dans le TOHOKU\, la Région de Sendai\, en traversant les différentes époques qui ont marqué l’histoire de ces poupées traditionnelles. » \nLieu : Espace Pierre Jaffry (Au fond de la cour de la MIR/Institut Franco Américain) \nHoraires : \n\nDu lundi au jeudi : 12h -18h\nLe vendredi : 12h – 15h.\n\nLa conférence/documentaire/vernisssage : \n\nMercredi 26 mars de 18h à 20h\nLieu : Auditorium de la MIR
URL:https://www.mir-rennes.fr/evenement/vernissage-exposition-kokeshis-shimai-toshi-sendai/
LOCATION:Auditorium de la Maison Internationale de Rennes\, 7 Quai Chateaubriand\, Rennes\, 35000\, France
ATTACH;FMTTYPE=image/webp:https://www.mir-rennes.fr/wp-content/uploads/2025/02/rennes-sendai-24-28-mars.webp
ORGANIZER;CN="Association Shimai Toshi Senda%C3%AF":MAILTO:jumelage.rensendai@laposte.net
END:VEVENT
BEGIN:VEVENT
DTSTART;TZID=Europe/Paris:20250327T183000
DTEND;TZID=Europe/Paris:20250327T203000
DTSTAMP:20260421T131806
CREATED:20250221T093548Z
LAST-MODIFIED:20250221T093548Z
UID:2777-1743100200-1743107400@www.mir-rennes.fr
SUMMARY:Conférence - "La constitution au XXIè siècle – Histoire d’un fétiche social" par AMD
DESCRIPTION:Le jeudi 27 mars\, à 18 h 45\, à l’auditorium de la Maison internationale de Rennes (MIR)\, 7\, quai Chateaubriand\, rencontre avec Lauréline Fontaine\, autour de son dernier livre La constitution au XXIè siècle – Histoire d’un fétiche social (Editions Amsterdam\, janvier 2025) et de son article « Des « sages » qui se tiennent sages » (Le Monde diplomatique\, mars 2024).
URL:https://www.mir-rennes.fr/evenement/conference-la-constitution-au-xxie-siecle-histoire-dun-fetiche-social-par-amd/
LOCATION:Accueil de la Maison Internationale de Rennes\, 7 Quai Chateaubriand\, Rennes\, France
ATTACH;FMTTYPE=image/jpeg:https://www.mir-rennes.fr/wp-content/uploads/2025/02/27-mars-AMD.jpg
ORGANIZER;CN="Les Amis du Monde Diplomatique":MAILTO:amd.rennes@gmail.com
END:VEVENT
END:VCALENDAR