BEGIN:VCALENDAR
VERSION:2.0
PRODID:-//Maison Internationale de Rennes - ECPv6.15.20//NONSGML v1.0//EN
CALSCALE:GREGORIAN
METHOD:PUBLISH
X-WR-CALNAME:Maison Internationale de Rennes
X-ORIGINAL-URL:https://www.mir-rennes.fr
X-WR-CALDESC:Évènements pour Maison Internationale de Rennes
REFRESH-INTERVAL;VALUE=DURATION:PT1H
X-Robots-Tag:noindex
X-PUBLISHED-TTL:PT1H
BEGIN:VTIMEZONE
TZID:Europe/Paris
BEGIN:DAYLIGHT
TZOFFSETFROM:+0100
TZOFFSETTO:+0200
TZNAME:CEST
DTSTART:20240331T010000
END:DAYLIGHT
BEGIN:STANDARD
TZOFFSETFROM:+0200
TZOFFSETTO:+0100
TZNAME:CET
DTSTART:20241027T010000
END:STANDARD
BEGIN:DAYLIGHT
TZOFFSETFROM:+0100
TZOFFSETTO:+0200
TZNAME:CEST
DTSTART:20250330T010000
END:DAYLIGHT
BEGIN:STANDARD
TZOFFSETFROM:+0200
TZOFFSETTO:+0100
TZNAME:CET
DTSTART:20251026T010000
END:STANDARD
BEGIN:DAYLIGHT
TZOFFSETFROM:+0100
TZOFFSETTO:+0200
TZNAME:CEST
DTSTART:20260329T010000
END:DAYLIGHT
BEGIN:STANDARD
TZOFFSETFROM:+0200
TZOFFSETTO:+0100
TZNAME:CET
DTSTART:20261025T010000
END:STANDARD
END:VTIMEZONE
BEGIN:VEVENT
DTSTART;TZID=Europe/Paris:20250308T100000
DTEND;TZID=Europe/Paris:20250321T180000
DTSTAMP:20260421T160033
CREATED:20250214T081229Z
LAST-MODIFIED:20250227T111243Z
UID:2638-1741428000-1742580000@www.mir-rennes.fr
SUMMARY:#JIDDF - Exposition "Il n'y a pas de rose sans épines" par Diapositive
DESCRIPTION:Elles sont huit femmes à avoir fui leur pays dans l’espoir de trouver refuge et sécurité en France. Aujourd’hui accompagnées par l’HUDA 35 Coallia dans leur procédure de demande d’asile et hébergées dans la métropole rennaise\, elles sont à l’abri provisoirement. Pour autant cette période d’attente pendant laquelle elles n’ont pas le droit de travailler voit souvent émerger des problèmes de santé mentale qui les fragilisent davantage. C’est dans ce cadre là que les ateliers hebdomadaires d’expression par la photographie ont été initiés. Leur accorder un temps hors de leur quotidien pour leur permettre de se retrouver en confiance entre femmes. Prendre des photos qui évoquent un vécu\, une émotion pour ensuite trouver les mots et partager avec le groupe. S’en sentir libérée\, moins seule et reprendre tout doucement confiance. Pour cette deuxième édition\, nous leur avons proposé des discussions autour des Droits des femmes\, ce qu’ils veulent dire et comment ils résonnent avec leur propre histoire. Le travail qui en résulte est une série de photos prises dans un quotidien banal mais dont les textes apportent une intensité telle qu’ils nous laissent KO à chaque lecture. \nExposition photographique issue d’un atelier d’expression par la photographie avec\nun groupe de femmes en demande d’asile .\n– Une vingtaine de photographies en 40x50cm prises par leur soin\, accompagnées de verbatims\n– 9 portraits d’elles
URL:https://www.mir-rennes.fr/evenement/jiddf-exposition-par-diapositive/
LOCATION:Galerie de la Maison Internationale de Rennes\, 7 Quai Chateaubriand\, Rennes\, 35000\, France
ATTACH;FMTTYPE=image/jpeg:https://www.mir-rennes.fr/wp-content/uploads/2025/02/expo-coallia-mars2025-A3-flash_page-0001.jpg
END:VEVENT
BEGIN:VEVENT
DTSTART;TZID=Europe/Paris:20250315T180000
DTEND;TZID=Europe/Paris:20250315T210000
DTSTAMP:20260421T160033
CREATED:20250214T081926Z
LAST-MODIFIED:20250303T152119Z
UID:2639-1742061600-1742072400@www.mir-rennes.fr
SUMMARY:#JIDDF - Conférence "L'impact de la prison sur les détenues politiques kurdes en turquie" par AKB
DESCRIPTION:Dans le cadre de la Journée Internationale des Droits des Femmes : \nAMITIÉS KURDES DE BRETAGNE ET ZIN 35\, EN PARTENARIAT AVEC AMARA\nC’est une Histoire commune a beaucoup de militantes et de familles de militant-e-s kurdes que de séjourner au moins une fois en prison quand on vie en Turquie. Comment se passe la réintégration dans la société\, pour les femmes engagées politiquement mais aussi celles qui ne le sont pas\, les conditions d’incarcérations et l’accès aux soins\, comment s’est organisée la résistance ?\nNous aborderons toutes ces questions grâce aux témoignages de Mizgin Çiçek\, Sara Aktaş \, suivi d’un concert de Sevda et d’un pot kurdo/breton pour la rupture du jeûne.
URL:https://www.mir-rennes.fr/evenement/jiddf-conference-limpact-de-la-prison-sur-les-detenues-politiques-kurdes-en-turquie-par-akb/
LOCATION:Auditorium de la Maison Internationale de Rennes\, 7 Quai Chateaubriand\, Rennes\, 35000\, France
ATTACH;FMTTYPE=image/png:https://www.mir-rennes.fr/wp-content/uploads/2025/02/affiche-15-mars.png
END:VEVENT
END:VCALENDAR