BEGIN:VCALENDAR
VERSION:2.0
PRODID:-//Maison Internationale de Rennes - ECPv6.15.20//NONSGML v1.0//EN
CALSCALE:GREGORIAN
METHOD:PUBLISH
X-ORIGINAL-URL:https://www.mir-rennes.fr
X-WR-CALDESC:Évènements pour Maison Internationale de Rennes
REFRESH-INTERVAL;VALUE=DURATION:PT1H
X-Robots-Tag:noindex
X-PUBLISHED-TTL:PT1H
BEGIN:VTIMEZONE
TZID:Europe/Paris
BEGIN:DAYLIGHT
TZOFFSETFROM:+0100
TZOFFSETTO:+0200
TZNAME:CEST
DTSTART:20240331T010000
END:DAYLIGHT
BEGIN:STANDARD
TZOFFSETFROM:+0200
TZOFFSETTO:+0100
TZNAME:CET
DTSTART:20241027T010000
END:STANDARD
BEGIN:DAYLIGHT
TZOFFSETFROM:+0100
TZOFFSETTO:+0200
TZNAME:CEST
DTSTART:20250330T010000
END:DAYLIGHT
BEGIN:STANDARD
TZOFFSETFROM:+0200
TZOFFSETTO:+0100
TZNAME:CET
DTSTART:20251026T010000
END:STANDARD
BEGIN:DAYLIGHT
TZOFFSETFROM:+0100
TZOFFSETTO:+0200
TZNAME:CEST
DTSTART:20260329T010000
END:DAYLIGHT
BEGIN:STANDARD
TZOFFSETFROM:+0200
TZOFFSETTO:+0100
TZNAME:CET
DTSTART:20261025T010000
END:STANDARD
END:VTIMEZONE
BEGIN:VEVENT
DTSTART;TZID=Europe/Paris:20250210T100000
DTEND;TZID=Europe/Paris:20250223T170000
DTSTAMP:20260421T155249
CREATED:20250124T133503Z
LAST-MODIFIED:20250131T104526Z
UID:2439-1739181600-1740330000@www.mir-rennes.fr
SUMMARY:Exposition photos - Catherine Le Scolan-Quéré "Gaza Résiste"
DESCRIPTION:« GAZA RESISTE » \nLe 19 octobre 2024\, Catherine Le Scolan-Quéré est partie à Gaza. \nDepuis un an\, elle participait aux rassemblements et manifestations de soutien à la Palestine. \nCatherine\, qui pratique depuis plusieurs années la photographie de rue\, a réalisé une série d’images sur les manifestations de soutien à Gaza\, axées sur la couleur\, la composition et  la lumière. \nParallèlement\, sa profession de médecin lui a permis d’intégrer l’ONG PALMED France et d’entrer dans cette zone de guerre\, pour soigner. \nLes images réalisées à Gaza documentent la mission. \nL’objectif de cette exposition est double: \n\nsensibiliser les gens\, les faire réagir face à ce désastre humanitaire\nétablir un lien de solidarité entre les rennais et les gazaouis\, à travers l’art photographique et le témoignage.\n\nL’exposition\, soutenue par l’AFPS de Rennes\, est dédiée au peuple palestinien\, d’un courage et d’une résilience exemplaire. \nExposition photographique du 10 au 23 février 2025 à la MIR \nVernissage-témoignage le samedi 15 février à 19h00
URL:https://www.mir-rennes.fr/evenement/exposition-photos-catherine-le-scolan-quere-gaza-resiste/
LOCATION:Galerie de la Maison Internationale de Rennes\, 7 Quai Chateaubriand\, Rennes\, 35000\, France
ATTACH;FMTTYPE=image/png:https://www.mir-rennes.fr/wp-content/uploads/2025/01/Affiche-A3-Gaza-Resiste-PRINT.png
END:VEVENT
END:VCALENDAR